BEGIN:VCALENDAR
VERSION:2.0
PRODID:-//Human Service Forum - ECPv6.15.20//NONSGML v1.0//EN
CALSCALE:GREGORIAN
METHOD:PUBLISH
X-WR-CALNAME:Human Service Forum
X-ORIGINAL-URL:https://www.humanserviceforum.org
X-WR-CALDESC:Events for Human Service Forum
REFRESH-INTERVAL;VALUE=DURATION:PT1H
X-Robots-Tag:noindex
X-PUBLISHED-TTL:PT1H
BEGIN:VTIMEZONE
TZID:America/New_York
BEGIN:DAYLIGHT
TZOFFSETFROM:-0500
TZOFFSETTO:-0400
TZNAME:EDT
DTSTART:20230312T070000
END:DAYLIGHT
BEGIN:STANDARD
TZOFFSETFROM:-0400
TZOFFSETTO:-0500
TZNAME:EST
DTSTART:20231105T060000
END:STANDARD
BEGIN:DAYLIGHT
TZOFFSETFROM:-0500
TZOFFSETTO:-0400
TZNAME:EDT
DTSTART:20240310T070000
END:DAYLIGHT
BEGIN:STANDARD
TZOFFSETFROM:-0400
TZOFFSETTO:-0500
TZNAME:EST
DTSTART:20241103T060000
END:STANDARD
BEGIN:DAYLIGHT
TZOFFSETFROM:-0500
TZOFFSETTO:-0400
TZNAME:EDT
DTSTART:20250309T070000
END:DAYLIGHT
BEGIN:STANDARD
TZOFFSETFROM:-0400
TZOFFSETTO:-0500
TZNAME:EST
DTSTART:20251102T060000
END:STANDARD
BEGIN:DAYLIGHT
TZOFFSETFROM:-0500
TZOFFSETTO:-0400
TZNAME:EDT
DTSTART:20260308T070000
END:DAYLIGHT
BEGIN:STANDARD
TZOFFSETFROM:-0400
TZOFFSETTO:-0500
TZNAME:EST
DTSTART:20261101T060000
END:STANDARD
BEGIN:DAYLIGHT
TZOFFSETFROM:-0500
TZOFFSETTO:-0400
TZNAME:EDT
DTSTART:20270314T070000
END:DAYLIGHT
BEGIN:STANDARD
TZOFFSETFROM:-0400
TZOFFSETTO:-0500
TZNAME:EST
DTSTART:20271107T060000
END:STANDARD
END:VTIMEZONE
BEGIN:VEVENT
DTSTART;TZID=America/New_York:20260414T083000
DTEND;TZID=America/New_York:20260414T170000
DTSTAMP:20260423T135101
CREATED:20260303T195151Z
LAST-MODIFIED:20260303T195151Z
UID:10007947-1776155400-1776186000@www.humanserviceforum.org
SUMMARY:Shared Living and Adult Family Care Conference
DESCRIPTION:ServiceNet is one of several provider agencies hosting this year’s Shared Living & Adult Family Care Conference at the Best Western Royal Plaza Hotel & Trade Center in Marlborough\, MA. Join us as we come together to advance best practices in Shared Living and Adult Family Care. Get tickets
URL:https://www.humanserviceforum.org/event/shared-living-and-adult-family-care-conference/
CATEGORIES:Community Calendar,HSF Member Event
ORGANIZER;CN="ServiceNet":MAILTO:wpayson@servicenet.org
END:VEVENT
BEGIN:VEVENT
DTSTART;TZID=America/New_York:20260413T173000
DTEND;TZID=America/New_York:20260413T190000
DTSTAMP:20260423T135101
CREATED:20260408T113906Z
LAST-MODIFIED:20260408T113906Z
UID:10008013-1776101400-1776106800@www.humanserviceforum.org
SUMMARY:De-escalating Behaviors  for Caregivers and Professionals
DESCRIPTION:This in-person workshop will focus on de-escalating behaviors and preventing crises. Topics will include: \n  \n\nDe-escalation goals\nPre-de-escalation strategies\nKeys to effective de-escalation\nDe-escalation techniques\nDe-escalation pitfalls to avoid\nHow to de-escalate as a team\nDe-escalation safety\n\n\nBrennan will be hosting 1:1 consultations at a later workshop.
URL:https://www.humanserviceforum.org/event/de-escalating-behaviors-for-caregivers-and-professionals/
CATEGORIES:Community Calendar,HSF Member Event
ORGANIZER;CN="ServiceNet":MAILTO:wpayson@servicenet.org
END:VEVENT
BEGIN:VEVENT
DTSTART;TZID=America/New_York:20260324T183000
DTEND;TZID=America/New_York:20260324T193000
DTSTAMP:20260423T135101
CREATED:20260303T184251Z
LAST-MODIFIED:20260303T184251Z
UID:10007943-1774377000-1774380600@www.humanserviceforum.org
SUMMARY:Adult Family Care Virtual Info Sessions
DESCRIPTION:Zoom and phone details will be sent to your email address after registration. \nWHAT WILL BE DISCUSSED? \nA few of the topics that will be covered include: \n\nRequirements/Eligibility\nApproval/Application Process\nWhat to Expect\nThe supports Care Givers receive from ServiceNet (This is a team effort!)\n\nWhether you just come to listen or want to ask questions yourself\, you will have an opportunity to meet with ServiceNet staff members to learn all there is to know about the Adult Family Care program. \nTo find out more about ServiceNet’s Adult Family Care program or to apply to be a Care Giver\, please visit our webpage. \nCan’t make the Info Session? Send your questions to sara.robitaille@servicenet.org or call 413-731-4533.
URL:https://www.humanserviceforum.org/event/adult-family-care-virtual-info-sessions/
CATEGORIES:Community Calendar,HSF Member Event
ATTACH;FMTTYPE=image/png:https://www.humanserviceforum.org/wp-content/uploads/2026/03/info-session.png
ORGANIZER;CN="ServiceNet":MAILTO:wpayson@servicenet.org
END:VEVENT
BEGIN:VEVENT
DTSTART;TZID=America/New_York:20260320T130000
DTEND;TZID=America/New_York:20260320T150000
DTSTAMP:20260423T135101
CREATED:20260303T165823Z
LAST-MODIFIED:20260303T165823Z
UID:10007942-1774011600-1774018800@www.humanserviceforum.org
SUMMARY:Strive Clinic Open House & Advocacy Day
DESCRIPTION:Hear from individuals living with brain injury\, meet the clinic’s team of therapists\, tour the facility\, and see assistive technology demonstrations. 1 to 3 p.m. at 1236 Main Street in Holyoke. For more information\, email Strive Clinic Director of Operations Ellen Werner.
URL:https://www.humanserviceforum.org/event/strive-clinic-open-house-advocacy-day/
CATEGORIES:Community Calendar,HSF Member Event
ORGANIZER;CN="ServiceNet":MAILTO:wpayson@servicenet.org
END:VEVENT
BEGIN:VEVENT
DTSTART;TZID=America/New_York:20260319T080000
DTEND;TZID=America/New_York:20260319T170000
DTSTAMP:20260423T135101
CREATED:20260303T190351Z
LAST-MODIFIED:20260303T190351Z
UID:10007946-1773907200-1773939600@www.humanserviceforum.org
SUMMARY:Whole Children Spring Session Registration open
DESCRIPTION:Social and fun afternoon and Saturday classes for people ages 3-100 with disabilities and/or autism in Northampton. Open to all! Learn more and sign up for classes. \n  \nEach class costs $95 for the session with the exception of Cooking Classes\, which cost $120 to cover the cost of food. If you register for four or more classes you will receive a 20% discount off the total cost. Discount will show in cart. \nEvents are free for anyone enrolled in classes. For those not currently taking a class\, event admission is $10. \nClass sizes are limited; register early to secure a spot in a desired class. \nPlease note that all age ranges are suggestions only. Please contact us at info@wholechildren.org or (413) 585-8010 if you’re interested in signing up for a class outside of the posted age range.
URL:https://www.humanserviceforum.org/event/whole-children-spring-session-registration-open/2026-03-19/
CATEGORIES:Community Calendar,HSF Member Event
ORGANIZER;CN="ServiceNet":MAILTO:wpayson@servicenet.org
END:VEVENT
BEGIN:VEVENT
DTSTART;TZID=America/New_York:20251105T173000
DTEND;TZID=America/New_York:20251105T200000
DTSTAMP:20260423T135101
CREATED:20251009T140005Z
LAST-MODIFIED:20251009T140005Z
UID:10007489-1762363800-1762372800@www.humanserviceforum.org
SUMMARY:Transition Resource Fair
DESCRIPTION:The popular Transition Resource Fair is coming to Greenfield High School!\n\n\n\n\n\n\n\n  \n\n\n\n\n\n\n\nWednesday\, November 5\, 2025 \n5:30 p.m. – 8 p.m. \n  \nGreenfield High School \n21 Barr Avenue\, Greenfield\, MA 01301\n\n\n\n\n\n\n\n  \n\n\n\n\n\n\n\nThe Transition Resource Fair focuses on future options for high school students as they and their families plan their transition from DDS children’s services to adult services. The event provides an opportunity to meet with a roomful of specialized transition service providers\, and is a free resource event open to the entire community. \n  \nParticipants in the transition process are typically students 14-22\, however\, information about services can also be useful for younger children\, as well as young adults over 22. \n  \nWe respectfully request that you register for the fair so we will be prepared for the correct number of attendees; however\, registration is not required. Registrations from attendees requesting Spanish interpretation are required and are due by October 21\, so we can make arrangements. \n  \nLight appetizers will be available during the fair. \n  \nIf you have additional questions\, please email Angie Hawk\, at ahawk@servicenet.org.
URL:https://www.humanserviceforum.org/event/transition-resource-fair-2/
CATEGORIES:Community Calendar,HSF Member Event
ATTACH;FMTTYPE=image/jpeg:https://www.humanserviceforum.org/wp-content/uploads/2025/10/transition.jpg
ORGANIZER;CN="ServiceNet":MAILTO:wpayson@servicenet.org
END:VEVENT
BEGIN:VEVENT
DTSTART;TZID=America/New_York:20251023T163000
DTEND;TZID=America/New_York:20251023T183000
DTSTAMP:20260423T135101
CREATED:20251009T141723Z
LAST-MODIFIED:20251009T141723Z
UID:10007493-1761237000-1761244200@www.humanserviceforum.org
SUMMARY:Haunted House Fundraiser
DESCRIPTION:The bone-chilling season for ghosts\, ghouls\, and scary frights is finally here! In celebration\, ServiceNet’s Prospect Meadow Farm is hosting its first-ever haunted house fundraiser October 23-25.There will be two public haunted house events during the fundraiser:Kids’ Haunted House – Oct. 23\, 4:30- 6:30 p.m. – Family and sensory friendly!Adults’ Haunted House – Oct. 25\, 6-8 p.m. Hot beverages and baked goods from Rooster Cafe Facepainting at the Kids’ Haunted House 6 p.m. Goat parade at Kids’ Haunted House Silent Auction\, raffle\, and pre-orders for gift baskets with a 10 percent discount!Tickets for the haunted houses can be purchased online. https://hubs.la/Q03MMSK70Ticket sales at the door will be limited.
URL:https://www.humanserviceforum.org/event/haunted-house-fundraiser/
CATEGORIES:Community Calendar,HSF Member Event
ORGANIZER;CN="ServiceNet":MAILTO:wpayson@servicenet.org
END:VEVENT
BEGIN:VEVENT
DTSTART;TZID=America/New_York:20250917T080000
DTEND;TZID=America/New_York:20250917T170000
DTSTAMP:20260423T135101
CREATED:20250903T124023Z
LAST-MODIFIED:20250903T124023Z
UID:10007312-1758096000-1758128400@www.humanserviceforum.org
SUMMARY:Whole Children Fall Classes Open
DESCRIPTION:
URL:https://www.humanserviceforum.org/event/whole-children-fall-classes-open/2025-09-17/
CATEGORIES:Community Calendar,HSF Member Event
ORGANIZER;CN="ServiceNet":MAILTO:wpayson@servicenet.org
END:VEVENT
BEGIN:VEVENT
DTSTART;VALUE=DATE:20250618
DTEND;VALUE=DATE:20250619
DTSTAMP:20260423T135101
CREATED:20250618T133625Z
LAST-MODIFIED:20250618T133625Z
UID:10007094-1750204800-1750291199@www.humanserviceforum.org
SUMMARY:Whole Children and Milestones Summer Registration
DESCRIPTION:Whole Children™ and Milestones offer social and recreational classes in Northampton for kids\, teens\, and adults of all abilities. We have a ton of new classes this session with options like Preschool Music and Movement\, Comic Writing\, Theater Games\, Intro to Friendship Band\, Improv Class and more! \nSummer session runs from July 8- August 23. \nRegister now: https://www.wholechildren.org/class-schedule
URL:https://www.humanserviceforum.org/event/whole-children-and-milestones-summer-registration/
LOCATION:Inclusive Community Center\, 41 Russell St.\, Hadley\, MA\, 01035\, United States
CATEGORIES:Community Calendar,HSF Member Event
ATTACH;FMTTYPE=image/jpeg:https://www.humanserviceforum.org/wp-content/uploads/2025/06/500417505_1280180727445672_7271115801386799042_n.jpg
ORGANIZER;CN="ServiceNet":MAILTO:wpayson@servicenet.org
GEO:42.3391695;-72.6065641
X-APPLE-STRUCTURED-LOCATION;VALUE=URI;X-ADDRESS=Inclusive Community Center 41 Russell St. Hadley MA 01035 United States;X-APPLE-RADIUS=500;X-TITLE=41 Russell St.:geo:-72.6065641,42.3391695
END:VEVENT
BEGIN:VEVENT
DTSTART;TZID=America/New_York:20250513T180000
DTEND;TZID=America/New_York:20250513T193000
DTSTAMP:20260423T135101
CREATED:20250430T125157Z
LAST-MODIFIED:20250430T125909Z
UID:10005931-1747159200-1747164600@www.humanserviceforum.org
SUMMARY:Stop It! Caregiver Behaviors That Impede Progress
DESCRIPTION:Parents and caregivers!\nHow many of us are doing things for our children or loved ones\nwith disabilities that we really shouldn’t continue to do? Things\nthat could easily become barriers to independent living models.\nThings that may even make our person more vulnerable than\nnecessary. \nThere’s no doubt that we do these things out of love\, maybe\nsprinkled with a little bit of guilt and a whole lot of just plain\nsurvival…but regardless\, our overcompensation and natural\ninstincts to protect for a lifetime are counterproductive. \nHelping our loved one reach their highest level of independence\nand autonomy they can reach takes courage\, vulnerability\, and\nplanning on our part\, and yet\, preparing those we love for life\nwithout us is the final and most important gift we can give them.\nEmail Meg at megan.moran@servicenet.org for more information\nabout the this webinar. We hope you can join us!
URL:https://www.humanserviceforum.org/event/stop-it-caregiver-behaviors-that-impede-progress/
CATEGORIES:Community Calendar,HSF Member Event
ORGANIZER;CN="ServiceNet":MAILTO:wpayson@servicenet.org
END:VEVENT
BEGIN:VEVENT
DTSTART;TZID=America/New_York:20250417T183000
DTEND;TZID=America/New_York:20250417T193000
DTSTAMP:20260423T135101
CREATED:20250408T144652Z
LAST-MODIFIED:20250408T144652Z
UID:10005520-1744914600-1744918200@www.humanserviceforum.org
SUMMARY:Adult Family Care Info Session
DESCRIPTION:Register for the Adult Family Care Info Session\nThursday\, April 17\n11 a.m.-12 p.m.\nOR\n6:30-7:30 p.m. \nZoom and phone details will be sent to your email address after registration. \nWHAT WILL BE DISCUSSED? \nA few of the topics that will be covered include: \n\nRequirements/Eligibility\nApproval/Application Process\nWhat to Expect\nThe supports Care Givers receive from ServiceNet (This is a team effort!)\n\nWhether you just come to listen or want to ask questions yourself\, you will have an opportunity to meet with ServiceNet staff members to learn all there is to know about the Adult Family Care program. \nTo find out more about ServiceNet’s Adult Family Care program or to apply to be a Care Giver\, please visit our website. \nCan’t make the Workshop? Send your questions to sara.robitaille@servicenet.org or call 413-731-4533.
URL:https://www.humanserviceforum.org/event/adult-family-care-info-session-2/2025-04-17/2/
CATEGORIES:Community Calendar,HSF Member Event
ATTACH;FMTTYPE=image/jpeg:https://www.humanserviceforum.org/wp-content/uploads/2025/04/afc-april.jpg
ORGANIZER;CN="ServiceNet":MAILTO:wpayson@servicenet.org
END:VEVENT
BEGIN:VEVENT
DTSTART;TZID=America/New_York:20250402T173000
DTEND;TZID=America/New_York:20250402T200000
DTSTAMP:20260423T135101
CREATED:20250318T101921Z
LAST-MODIFIED:20250318T101921Z
UID:10005499-1743615000-1743624000@www.humanserviceforum.org
SUMMARY:Transition Resource Fair
DESCRIPTION:The Transition Resource Fair focuses on future options for high school students as they and their families plan their transition from DDS children’s services to adult services. The event provides an opportunity to meet with representatives of many organizations. The Fair is a free resource event open to the entire community. \n  \nWe respectfully request that you register for the fair so we will be prepared for the correct number of attendees\, however registration is not required. Registration is required for requests for Spanish interpretation\, and must be received by March 24. \n  \nIf you have additional questions\, please email joanne.lucey@servicenet.org.\n\n\n\n\n\n\n\n  \n\n\n\n\n\n\n\nThe Transition Resource Fair is sponsored by Family Empowerment and the Department of Developmental Disabilities.\n\n\n\n 
URL:https://www.humanserviceforum.org/event/transition-resource-fair/
CATEGORIES:Community Calendar,HSF Member Event
ORGANIZER;CN="ServiceNet":MAILTO:wpayson@servicenet.org
END:VEVENT
BEGIN:VEVENT
DTSTART;TZID=America/New_York:20241010T160000
DTEND;TZID=America/New_York:20241010T190000
DTSTAMP:20260423T135101
CREATED:20240925T122344Z
LAST-MODIFIED:20240925T122344Z
UID:10003502-1728576000-1728586800@www.humanserviceforum.org
SUMMARY:Annual Art Show
DESCRIPTION:ServiceNet’s second annual art show for mental health and wellbeing. \nWhen:     Thursday\, October 10\, 4-7 p.m.\nWhere:    ServiceNet’s Main Administrative Building\n21 Olander Drive\, Northampton\, MA 01060 \nShowcasing the artwork of more than 30 ServiceNet community members\, this event celebrates creativity and highlights how art can be a powerful way to express emotions and connect deeply with the world around us. \nThe reception will feature delicious food from ServiceNet’s Rooster Café\, live music\, raffles\, and much more. \nThe evening will also mark the official launch of our 2024 fall fundraising campaign\, “Together\, We Thrive.”
URL:https://www.humanserviceforum.org/event/annual-art-show/
CATEGORIES:Community Calendar,HSF Member Event
ORGANIZER;CN="ServiceNet":MAILTO:wpayson@servicenet.org
END:VEVENT
END:VCALENDAR