BEGIN:VCALENDAR
VERSION:2.0
PRODID:-//Human Service Forum - ECPv6.15.20//NONSGML v1.0//EN
CALSCALE:GREGORIAN
METHOD:PUBLISH
X-WR-CALNAME:Human Service Forum
X-ORIGINAL-URL:https://www.humanserviceforum.org
X-WR-CALDESC:Events for Human Service Forum
REFRESH-INTERVAL;VALUE=DURATION:PT1H
X-Robots-Tag:noindex
X-PUBLISHED-TTL:PT1H
BEGIN:VTIMEZONE
TZID:America/New_York
BEGIN:DAYLIGHT
TZOFFSETFROM:-0500
TZOFFSETTO:-0400
TZNAME:EDT
DTSTART:20230312T070000
END:DAYLIGHT
BEGIN:STANDARD
TZOFFSETFROM:-0400
TZOFFSETTO:-0500
TZNAME:EST
DTSTART:20231105T060000
END:STANDARD
BEGIN:DAYLIGHT
TZOFFSETFROM:-0500
TZOFFSETTO:-0400
TZNAME:EDT
DTSTART:20240310T070000
END:DAYLIGHT
BEGIN:STANDARD
TZOFFSETFROM:-0400
TZOFFSETTO:-0500
TZNAME:EST
DTSTART:20241103T060000
END:STANDARD
BEGIN:DAYLIGHT
TZOFFSETFROM:-0500
TZOFFSETTO:-0400
TZNAME:EDT
DTSTART:20250309T070000
END:DAYLIGHT
BEGIN:STANDARD
TZOFFSETFROM:-0400
TZOFFSETTO:-0500
TZNAME:EST
DTSTART:20251102T060000
END:STANDARD
BEGIN:DAYLIGHT
TZOFFSETFROM:-0500
TZOFFSETTO:-0400
TZNAME:EDT
DTSTART:20260308T070000
END:DAYLIGHT
BEGIN:STANDARD
TZOFFSETFROM:-0400
TZOFFSETTO:-0500
TZNAME:EST
DTSTART:20261101T060000
END:STANDARD
END:VTIMEZONE
BEGIN:VEVENT
DTSTART;TZID=America/New_York:20251210T080000
DTEND;TZID=America/New_York:20251210T170000
DTSTAMP:20260423T142545
CREATED:20251209T152431Z
LAST-MODIFIED:20251209T152535Z
UID:10007670-1765353600-1765386000@www.humanserviceforum.org
SUMMARY:Toy Drive to Benefit SquareOne
DESCRIPTION:FITNESS FIRST CALLING ALL TOYS!!!!!!!! There is no better way to work your heart muscle than giving to others! Be sure to donate a toy Now – December 17 by our Christmas Tree (near the front desk). Each year our goal is to donate over 200+ toys to Square One! We have a long way to go\, and we need your help! Donate. Donate. Donate. Donate. Every child deserves a special toy during the holiday season!
URL:https://www.humanserviceforum.org/event/toy-drive-to-benefit-squareone/
CATEGORIES:Community Calendar,HSF Member Event
END:VEVENT
BEGIN:VEVENT
DTSTART;TZID=America/New_York:20251114T100000
DTEND;TZID=America/New_York:20251114T110000
DTSTAMP:20260423T142545
CREATED:20250917T123013Z
LAST-MODIFIED:20250917T123013Z
UID:10007457-1763114400-1763118000@www.humanserviceforum.org
SUMMARY:Ribbon Cutting
DESCRIPTION:
URL:https://www.humanserviceforum.org/event/ribbon-cutting/
CATEGORIES:Community Calendar,HSF Member Event
END:VEVENT
BEGIN:VEVENT
DTSTART;TZID=America/New_York:20250503T170000
DTEND;TZID=America/New_York:20250503T200000
DTSTAMP:20260423T142545
CREATED:20250416T142339Z
LAST-MODIFIED:20250416T142339Z
UID:10005914-1746291600-1746302400@www.humanserviceforum.org
SUMMARY:Derby Party
DESCRIPTION:
URL:https://www.humanserviceforum.org/event/derby-party/
CATEGORIES:Community Calendar,HSF Member Event
END:VEVENT
BEGIN:VEVENT
DTSTART;TZID=America/New_York:20240919T173000
DTEND;TZID=America/New_York:20240919T213000
DTSTAMP:20260423T142545
CREATED:20240828T172500Z
LAST-MODIFIED:20240828T172500Z
UID:10003384-1726767000-1726781400@www.humanserviceforum.org
SUMMARY:Party For a Purpose
DESCRIPTION:Friends on a Mission invites you to the Party for a Purpose to enjoy an incredible night to benefit Square One. \nThursday\, September 19\, 2024\, 5:30 p.m. at the Delaney House \n \n \n\n\n\n  \n\n\n\n\n\n\n\n\n\n\n\n\n\n\n\n 
URL:https://www.humanserviceforum.org/event/party-for-a-purpose/
CATEGORIES:Community Calendar,HSF Member Event
END:VEVENT
BEGIN:VEVENT
DTSTART;TZID=America/New_York:20240504T170000
DTEND;TZID=America/New_York:20240504T200000
DTSTAMP:20260423T142545
CREATED:20240220T184443Z
LAST-MODIFIED:20240220T184443Z
UID:10001904-1714842000-1714852800@www.humanserviceforum.org
SUMMARY:SquareOne Derby Party
DESCRIPTION:
URL:https://www.humanserviceforum.org/event/squareone-derby-party/
CATEGORIES:Community Calendar,HSF Member Event
END:VEVENT
BEGIN:VEVENT
DTSTART;TZID=America/New_York:20240308T180000
DTEND;TZID=America/New_York:20240308T230000
DTSTAMP:20260423T142545
CREATED:20240208T173931Z
LAST-MODIFIED:20240208T174025Z
UID:10001827-1709920800-1709938800@www.humanserviceforum.org
SUMMARY:Once upon a Prom
DESCRIPTION:Once Upon A Prom – Fundraising Benefit For Square One Springfield \nJoin us for a magical evening at the Country Club of Wilbraham in Wilbraham\, MA. Get ready to dance the night away and create unforgettable memories at this in-person event. \nSlope to Shore Team of William Raveis has partnered with Meara Law to host Once Upon A Prom\, a fundraising benefit for Square One Springfield. Square One Springfield is a local organization dedicated to providing essential support and resources for children and families in need. By attending Once Upon A Prom\, you’ll be contributing to a great cause while having a blast! \nGrab your most glamorous attire and prepare for an enchanting night filled with music\, laughter\, and joy. Our team has worked tirelessly to ensure that every detail is perfect\, from the decorations to the delicious food and drinks. \nDon’t miss out on this incredible opportunity to make a difference in your community and have a fantastic time doing it. Grab your friends and get ready for a prom night like no other!
URL:https://www.humanserviceforum.org/event/once-upon-a-prom/
CATEGORIES:Community Calendar,HSF Member Event
ATTACH;FMTTYPE=image/jpeg:https://www.humanserviceforum.org/wp-content/uploads/2024/02/prom.jpg
END:VEVENT
BEGIN:VEVENT
DTSTART;TZID=America/New_York:20240225T113000
DTEND;TZID=America/New_York:20240225T150000
DTSTAMP:20260423T142545
CREATED:20240130T172451Z
LAST-MODIFIED:20240130T172451Z
UID:10001806-1708860600-1708873200@www.humanserviceforum.org
SUMMARY:The INSIDE Ride
DESCRIPTION:SquareOne is proud to partner with the Ride To Remember in supporting our community’s first responders and their families.  \nIn particular\, we honor those who have lost their lives while working to keep our communities safe and healthy.  \n  \nPlease join us in supporting this initiative\, which benefits Square One and other community-based organizations\, by participating in The INSIDE Ride on  \nSunday\, February 25. \n  \nThis event is for everyone — beginners and experienced spinners/cyclists are welcome! \n  \nSpecial thanks to the YMCA of Greater Springfield for graciously hosting the event. \n  \n 
URL:https://www.humanserviceforum.org/event/the-inside-ride/
CATEGORIES:Community Calendar,HSF Member Event
END:VEVENT
END:VCALENDAR