BEGIN:VCALENDAR
VERSION:2.0
PRODID:-//Human Service Forum - ECPv6.15.20//NONSGML v1.0//EN
CALSCALE:GREGORIAN
METHOD:PUBLISH
X-WR-CALNAME:Human Service Forum
X-ORIGINAL-URL:https://www.humanserviceforum.org
X-WR-CALDESC:Events for Human Service Forum
REFRESH-INTERVAL;VALUE=DURATION:PT1H
X-Robots-Tag:noindex
X-PUBLISHED-TTL:PT1H
BEGIN:VTIMEZONE
TZID:America/New_York
BEGIN:DAYLIGHT
TZOFFSETFROM:-0500
TZOFFSETTO:-0400
TZNAME:EDT
DTSTART:20230312T070000
END:DAYLIGHT
BEGIN:STANDARD
TZOFFSETFROM:-0400
TZOFFSETTO:-0500
TZNAME:EST
DTSTART:20231105T060000
END:STANDARD
BEGIN:DAYLIGHT
TZOFFSETFROM:-0500
TZOFFSETTO:-0400
TZNAME:EDT
DTSTART:20240310T070000
END:DAYLIGHT
BEGIN:STANDARD
TZOFFSETFROM:-0400
TZOFFSETTO:-0500
TZNAME:EST
DTSTART:20241103T060000
END:STANDARD
BEGIN:DAYLIGHT
TZOFFSETFROM:-0500
TZOFFSETTO:-0400
TZNAME:EDT
DTSTART:20250309T070000
END:DAYLIGHT
BEGIN:STANDARD
TZOFFSETFROM:-0400
TZOFFSETTO:-0500
TZNAME:EST
DTSTART:20251102T060000
END:STANDARD
BEGIN:DAYLIGHT
TZOFFSETFROM:-0500
TZOFFSETTO:-0400
TZNAME:EDT
DTSTART:20260308T070000
END:DAYLIGHT
BEGIN:STANDARD
TZOFFSETFROM:-0400
TZOFFSETTO:-0500
TZNAME:EST
DTSTART:20261101T060000
END:STANDARD
END:VTIMEZONE
BEGIN:VEVENT
DTSTART;TZID=America/New_York:20250806T090000
DTEND;TZID=America/New_York:20250806T170000
DTSTAMP:20260424T023748
CREATED:20250618T151344Z
LAST-MODIFIED:20250618T151344Z
UID:10007101-1754470800-1754499600@www.humanserviceforum.org
SUMMARY:36th Annual Sunshine Village Golf Tournament
DESCRIPTION:Our golf roster is full\, but you can still be a part of the fun! Consider a sponsorship or donation to help us SHINE even brighter! Sign up here: https://www.sunshine.us/signupgolf\nProceeds from this event benefit our clients and programs — funding things like:* Community outings and our ‘Bringing the Community to Us’ Inclusion Program Partner Visits*Supplies for art\, music therapy\, and culinary exploration*Property Improvements and essential furniture*Adaptive tools\, medical equipment and technology upgrades.\nTo learn more about our GREAT days at Sunshine Village\, visit: www.sunshine.us
URL:https://www.humanserviceforum.org/event/36th-annual-sunshine-village-golf-tournament/
CATEGORIES:Community Calendar,HSF Member Event
END:VEVENT
BEGIN:VEVENT
DTSTART;TZID=America/New_York:20240807T090000
DTEND;TZID=America/New_York:20240807T170000
DTSTAMP:20260424T023748
CREATED:20240731T104812Z
LAST-MODIFIED:20240731T104812Z
UID:10003223-1723021200-1723050000@www.humanserviceforum.org
SUMMARY:Sunshine Village Annual Golf Tournament
DESCRIPTION:Join us for the\n35th Annual Sunshine Village Golf Tournament!\nWednesday August 7\, 2024\, at the Chicopee Country Club\n9:00 am Shotgun Start\nSPONSORS register today! (using the form below) \nTHANK YOU TO OUR TOURNAMENT SPONSORS! \n2024 SSV Closed Roster Golf Brochure \nAny questions?  Please e-mail Corinne Dumont at cdumont@sunshine.us or call her at 413/592-6142  X1113
URL:https://www.humanserviceforum.org/event/sunshine-village-annual-golf-tournament/
CATEGORIES:Community Calendar,HSF Member Event
END:VEVENT
END:VCALENDAR