BEGIN:VCALENDAR
VERSION:2.0
PRODID:-//Human Service Forum - ECPv6.15.20//NONSGML v1.0//EN
CALSCALE:GREGORIAN
METHOD:PUBLISH
X-WR-CALNAME:Human Service Forum
X-ORIGINAL-URL:https://www.humanserviceforum.org
X-WR-CALDESC:Events for Human Service Forum
REFRESH-INTERVAL;VALUE=DURATION:PT1H
X-Robots-Tag:noindex
X-PUBLISHED-TTL:PT1H
BEGIN:VTIMEZONE
TZID:America/New_York
BEGIN:DAYLIGHT
TZOFFSETFROM:-0500
TZOFFSETTO:-0400
TZNAME:EDT
DTSTART:20230312T070000
END:DAYLIGHT
BEGIN:STANDARD
TZOFFSETFROM:-0400
TZOFFSETTO:-0500
TZNAME:EST
DTSTART:20231105T060000
END:STANDARD
BEGIN:DAYLIGHT
TZOFFSETFROM:-0500
TZOFFSETTO:-0400
TZNAME:EDT
DTSTART:20240310T070000
END:DAYLIGHT
BEGIN:STANDARD
TZOFFSETFROM:-0400
TZOFFSETTO:-0500
TZNAME:EST
DTSTART:20241103T060000
END:STANDARD
BEGIN:DAYLIGHT
TZOFFSETFROM:-0500
TZOFFSETTO:-0400
TZNAME:EDT
DTSTART:20250309T070000
END:DAYLIGHT
BEGIN:STANDARD
TZOFFSETFROM:-0400
TZOFFSETTO:-0500
TZNAME:EST
DTSTART:20251102T060000
END:STANDARD
BEGIN:DAYLIGHT
TZOFFSETFROM:-0500
TZOFFSETTO:-0400
TZNAME:EDT
DTSTART:20260308T070000
END:DAYLIGHT
BEGIN:STANDARD
TZOFFSETFROM:-0400
TZOFFSETTO:-0500
TZNAME:EST
DTSTART:20261101T060000
END:STANDARD
END:VTIMEZONE
BEGIN:VEVENT
DTSTART;TZID=America/New_York:20250807T110000
DTEND;TZID=America/New_York:20250807T140000
DTSTAMP:20260424T014103
CREATED:20250729T141540Z
LAST-MODIFIED:20250729T141540Z
UID:10007209-1754564400-1754575200@www.humanserviceforum.org
SUMMARY:World Breastfeeding Week
DESCRIPTION:
URL:https://www.humanserviceforum.org/event/world-breastfeeding-week/
CATEGORIES:Community Calendar,HSF Member Event
ORGANIZER;CN="Tapestry Health":MAILTO:events@tapestryhealth.org
END:VEVENT
BEGIN:VEVENT
DTSTART;TZID=America/New_York:20250729T100000
DTEND;TZID=America/New_York:20250729T120000
DTSTAMP:20260424T014103
CREATED:20250722T131415Z
LAST-MODIFIED:20250722T131415Z
UID:10007199-1753783200-1753790400@www.humanserviceforum.org
SUMMARY:Grand Opening Tapestry Health
DESCRIPTION:Tapestry Health is proud to present a new location for one of our WIC sites at 281 Cottage St\, Springfield\, MA!\n\n\nCome see our new spot on July 29th for our grand opening. WIC cardholders are able to receive free children’s books\, community resources\, food demonstrations\, and raffle prizes while also participating in a farmers market.
URL:https://www.humanserviceforum.org/event/grand-opening-tapestry-health/
CATEGORIES:Community Calendar,HSF Member Event
ORGANIZER;CN="Tapestry Health":MAILTO:events@tapestryhealth.org
END:VEVENT
BEGIN:VEVENT
DTSTART;TZID=America/New_York:20250404T173000
DTEND;TZID=America/New_York:20250404T203000
DTSTAMP:20260424T014103
CREATED:20250128T161242Z
LAST-MODIFIED:20250203T132712Z
UID:10005422-1743787800-1743798600@www.humanserviceforum.org
SUMMARY:An Evening Under the Stars
DESCRIPTION:We welcome you to join us for An Evening Under the Stars\, Tapestry Health’s Annual Fundraising Gala\, on Friday\, April 4th\, 2025\, from 5:30 to 8:30 PM at The Log Cabin in Holyoke\, MA. \nLast year\, over 200 attendees came together for an unforgettable evening featuring an auction\, awards\, live music\, and beautiful views—all while raising critical funds to sustain and expand our life-affirming programs.  \nWe would love for you to be part of this special night as we continue our commitment to providing vital\, effective\, and inclusive care to all in Western MA. We need your help to ensure that everyone in our community receives the care and support they deserve.
URL:https://www.humanserviceforum.org/event/87608/
CATEGORIES:Community Calendar,HSF Member Event
ORGANIZER;CN="Tapestry Health":MAILTO:events@tapestryhealth.org
END:VEVENT
BEGIN:VEVENT
DTSTART;TZID=America/New_York:20241012T160000
DTEND;TZID=America/New_York:20241012T200000
DTSTAMP:20260424T014103
CREATED:20240925T100445Z
LAST-MODIFIED:20240925T100445Z
UID:10003499-1728748800-1728763200@www.humanserviceforum.org
SUMMARY:Bingo and Brew
DESCRIPTION:
URL:https://www.humanserviceforum.org/event/bingo-and-brew/
CATEGORIES:Community Calendar,HSF Member Event
ORGANIZER;CN="Tapestry Health":MAILTO:events@tapestryhealth.org
END:VEVENT
BEGIN:VEVENT
DTSTART;TZID=America/New_York:20240919T140000
DTEND;TZID=America/New_York:20240919T153000
DTSTAMP:20260424T014103
CREATED:20240730T124008Z
LAST-MODIFIED:20240730T124008Z
UID:10003214-1726754400-1726759800@www.humanserviceforum.org
SUMMARY:Overdose Prevention & Narcan Trainings
DESCRIPTION:
URL:https://www.humanserviceforum.org/event/overdose-prevention-narcan-trainings/2024-09-19/
CATEGORIES:Community Calendar,HSF Member Event
ORGANIZER;CN="Tapestry Health":MAILTO:events@tapestryhealth.org
END:VEVENT
BEGIN:VEVENT
DTSTART;TZID=America/New_York:20240729T120000
DTEND;TZID=America/New_York:20240729T130000
DTSTAMP:20260424T014103
CREATED:20240724T131049Z
LAST-MODIFIED:20240724T131049Z
UID:10003179-1722254400-1722258000@www.humanserviceforum.org
SUMMARY:Breast Feeding In Person Class
DESCRIPTION:
URL:https://www.humanserviceforum.org/event/breast-feeding-in-person-class/
CATEGORIES:Community Calendar,HSF Member Event
ORGANIZER;CN="Tapestry Health":MAILTO:events@tapestryhealth.org
END:VEVENT
BEGIN:VEVENT
DTSTART;TZID=America/New_York:20240726T100000
DTEND;TZID=America/New_York:20240726T120000
DTSTAMP:20260424T014103
CREATED:20240724T130825Z
LAST-MODIFIED:20240724T130825Z
UID:10003178-1721988000-1721995200@www.humanserviceforum.org
SUMMARY:WIC's 50th Birthday Celebration
DESCRIPTION:
URL:https://www.humanserviceforum.org/event/wics-50th-birthday-celebration/
CATEGORIES:Community Calendar,HSF Member Event
ORGANIZER;CN="Tapestry Health":MAILTO:events@tapestryhealth.org
END:VEVENT
BEGIN:VEVENT
DTSTART;TZID=America/New_York:20240509T173000
DTEND;TZID=America/New_York:20240509T193000
DTSTAMP:20260424T014103
CREATED:20240415T122346Z
LAST-MODIFIED:20240415T122346Z
UID:10002440-1715275800-1715283000@www.humanserviceforum.org
SUMMARY:Tapestry's Annual Auction. An Evening Under the Stars
DESCRIPTION:Silent Auction | Local talents | Delicious appetizers\n\n\n\n\nThursday\, May 9\, 2024\,\n5:30 pm – 7:30 pm\n\n\n\n\nat\n\n\n\n\nThe Penthouse 650\nat Tower Square\n\n\n\n\n1500 Main St Suite 650\, Springfield\, MA 01115\n\n\n\n\nBecome part of a vibrant community\, making a difference in community health.
URL:https://www.humanserviceforum.org/event/tapestrys-annual-auction-an-evening-under-the-stars/
CATEGORIES:Community Calendar,HSF Member Event
ORGANIZER;CN="Tapestry Health":MAILTO:events@tapestryhealth.org
END:VEVENT
BEGIN:VEVENT
DTSTART;TZID=America/New_York:20240227T150000
DTEND;TZID=America/New_York:20240227T163000
DTSTAMP:20260424T014103
CREATED:20240220T181940Z
LAST-MODIFIED:20240220T182007Z
UID:10001899-1709046000-1709051400@www.humanserviceforum.org
SUMMARY:Overdose Awareness Group
DESCRIPTION:This free group is a collaborative effort to end overdose and is extended to all; people with lived experience\, recovery coaches\, loss survivors\, providers\, etc. Light refreshments will be served. Presentation by Kimberly Slade. #endoverdose 💜💜💜 \n  \nLocation: Tapestry Harm Reduction Site \nAddress: 17 East Silver Street\, Westfield\, MA 01085 \nTime: Feb 27th\, 2024 3:00-4:30PM \nIf you’re interested in attending please RSVP. \nCall: 413-241-5379 \nText: 413-312-8306
URL:https://www.humanserviceforum.org/event/60743/
CATEGORIES:Community Calendar,HSF Member Event
ORGANIZER;CN="Tapestry Health":MAILTO:events@tapestryhealth.org
END:VEVENT
BEGIN:VEVENT
DTSTART;TZID=America/New_York:20240220T090000
DTEND;TZID=America/New_York:20240220T120000
DTSTAMP:20260424T014103
CREATED:20240220T182716Z
LAST-MODIFIED:20240220T182716Z
UID:10001900-1708419600-1708430400@www.humanserviceforum.org
SUMMARY:Diaper Bank
DESCRIPTION:Next month\, our Springfield North WIC program will hold our monthly Diaper Bank event for active Tapestry WIC participants on March 4th from 9AM-12PM at our WIC office at 1985 Main St. Springfield. \n  \nDando pañales a participantes activos del Tapestry WIC programa. Si tiene preguntas\, llame al 413-737-8868.
URL:https://www.humanserviceforum.org/event/diaper-bank-2/
CATEGORIES:Community Calendar,HSF Member Event
ORGANIZER;CN="Tapestry Health":MAILTO:events@tapestryhealth.org
END:VEVENT
END:VCALENDAR