BEGIN:VCALENDAR
VERSION:2.0
PRODID:-//Human Service Forum - ECPv6.15.20//NONSGML v1.0//EN
CALSCALE:GREGORIAN
METHOD:PUBLISH
X-WR-CALNAME:Human Service Forum
X-ORIGINAL-URL:https://www.humanserviceforum.org
X-WR-CALDESC:Events for Human Service Forum
REFRESH-INTERVAL;VALUE=DURATION:PT1H
X-Robots-Tag:noindex
X-PUBLISHED-TTL:PT1H
BEGIN:VTIMEZONE
TZID:America/New_York
BEGIN:DAYLIGHT
TZOFFSETFROM:-0500
TZOFFSETTO:-0400
TZNAME:EDT
DTSTART:20230312T070000
END:DAYLIGHT
BEGIN:STANDARD
TZOFFSETFROM:-0400
TZOFFSETTO:-0500
TZNAME:EST
DTSTART:20231105T060000
END:STANDARD
BEGIN:DAYLIGHT
TZOFFSETFROM:-0500
TZOFFSETTO:-0400
TZNAME:EDT
DTSTART:20240310T070000
END:DAYLIGHT
BEGIN:STANDARD
TZOFFSETFROM:-0400
TZOFFSETTO:-0500
TZNAME:EST
DTSTART:20241103T060000
END:STANDARD
BEGIN:DAYLIGHT
TZOFFSETFROM:-0500
TZOFFSETTO:-0400
TZNAME:EDT
DTSTART:20250309T070000
END:DAYLIGHT
BEGIN:STANDARD
TZOFFSETFROM:-0400
TZOFFSETTO:-0500
TZNAME:EST
DTSTART:20251102T060000
END:STANDARD
BEGIN:DAYLIGHT
TZOFFSETFROM:-0500
TZOFFSETTO:-0400
TZNAME:EDT
DTSTART:20260308T070000
END:DAYLIGHT
BEGIN:STANDARD
TZOFFSETFROM:-0400
TZOFFSETTO:-0500
TZNAME:EST
DTSTART:20261101T060000
END:STANDARD
BEGIN:DAYLIGHT
TZOFFSETFROM:-0500
TZOFFSETTO:-0400
TZNAME:EDT
DTSTART:20270314T070000
END:DAYLIGHT
BEGIN:STANDARD
TZOFFSETFROM:-0400
TZOFFSETTO:-0500
TZNAME:EST
DTSTART:20271107T060000
END:STANDARD
END:VTIMEZONE
BEGIN:VEVENT
DTSTART;TZID=America/New_York:20260228T190000
DTEND;TZID=America/New_York:20260228T210000
DTSTAMP:20260423T211027
CREATED:20260211T125913Z
LAST-MODIFIED:20260211T125913Z
UID:10007831-1772305200-1772312400@www.humanserviceforum.org
SUMMARY:Arc-A-Palooza 3
DESCRIPTION:If you or anyone you know are interested in performing\, message us! or email Stevie at stephaniecormier@theunitedarc.org
URL:https://www.humanserviceforum.org/event/arc-a-palooza-3/
CATEGORIES:Community Calendar,HSF Member Event
END:VEVENT
BEGIN:VEVENT
DTSTART;TZID=America/New_York:20240921T080000
DTEND;TZID=America/New_York:20240921T170000
DTSTAMP:20260423T211027
CREATED:20240729T163519Z
LAST-MODIFIED:20240729T163519Z
UID:10003196-1726905600-1726938000@www.humanserviceforum.org
SUMMARY:United Arc Softball Tournament
DESCRIPTION:
URL:https://www.humanserviceforum.org/event/united-arc-softball-tournament/
CATEGORIES:Community Calendar,HSF Member Event
END:VEVENT
BEGIN:VEVENT
DTSTART;TZID=America/New_York:20240801T100000
DTEND;TZID=America/New_York:20240801T120000
DTSTAMP:20260423T211027
CREATED:20240729T163212Z
LAST-MODIFIED:20240729T163212Z
UID:10003195-1722506400-1722513600@www.humanserviceforum.org
SUMMARY:Grandparent Connect:  A Summit of Grandparents Raising Grandchildren from Western Mass
DESCRIPTION:
URL:https://www.humanserviceforum.org/event/grandparent-connect-a-summit-of-grandparents-raising-grandchildren-from-western-mass/
CATEGORIES:Community Calendar,HSF Member Event
END:VEVENT
BEGIN:VEVENT
DTSTART;TZID=America/New_York:20240217T190000
DTEND;TZID=America/New_York:20240217T210000
DTSTAMP:20260423T211027
CREATED:20240130T163640Z
LAST-MODIFIED:20240130T163640Z
UID:10001803-1708196400-1708203600@www.humanserviceforum.org
SUMMARY:Arc-a-Palooza
DESCRIPTION:
URL:https://www.humanserviceforum.org/event/arc-a-palooza/
CATEGORIES:Community Calendar,HSF Member Event
END:VEVENT
END:VCALENDAR