BEGIN:VCALENDAR
VERSION:2.0
PRODID:-//Human Service Forum - ECPv6.15.20//NONSGML v1.0//EN
CALSCALE:GREGORIAN
METHOD:PUBLISH
X-ORIGINAL-URL:https://www.humanserviceforum.org
X-WR-CALDESC:Events for Human Service Forum
REFRESH-INTERVAL;VALUE=DURATION:PT1H
X-Robots-Tag:noindex
X-PUBLISHED-TTL:PT1H
BEGIN:VTIMEZONE
TZID:America/New_York
BEGIN:DAYLIGHT
TZOFFSETFROM:-0500
TZOFFSETTO:-0400
TZNAME:EDT
DTSTART:20230312T070000
END:DAYLIGHT
BEGIN:STANDARD
TZOFFSETFROM:-0400
TZOFFSETTO:-0500
TZNAME:EST
DTSTART:20231105T060000
END:STANDARD
BEGIN:DAYLIGHT
TZOFFSETFROM:-0500
TZOFFSETTO:-0400
TZNAME:EDT
DTSTART:20240310T070000
END:DAYLIGHT
BEGIN:STANDARD
TZOFFSETFROM:-0400
TZOFFSETTO:-0500
TZNAME:EST
DTSTART:20241103T060000
END:STANDARD
BEGIN:DAYLIGHT
TZOFFSETFROM:-0500
TZOFFSETTO:-0400
TZNAME:EDT
DTSTART:20250309T070000
END:DAYLIGHT
BEGIN:STANDARD
TZOFFSETFROM:-0400
TZOFFSETTO:-0500
TZNAME:EST
DTSTART:20251102T060000
END:STANDARD
END:VTIMEZONE
BEGIN:VEVENT
DTSTART;TZID=America/New_York:20240501T090000
DTEND;TZID=America/New_York:20240501T170000
DTSTAMP:20260424T031748
CREATED:20240301T124449Z
LAST-MODIFIED:20240301T124449Z
UID:10001992-1714554000-1714582800@www.humanserviceforum.org
SUMMARY:Trauma-Informed Yoga for Therapists and Their Clients
DESCRIPTION:No prior training in yoga\, trauma treatment\, or EMDR is required. \n\n\n\n  \n\n\n\nLive Online \n  \nMay 1\, 2024 \n  \n9:00-5:00 EST\n\n\n\n  \n\n\n\n6 CEs\, 3 EMDRIA CEs \n$160 early bird rate until April 1\n\n\n\n  \n\n\n\n\n\n\n\n\n\n\n\n\n\n\nThis day long workshop includes four 90-minute sessions exploring foundational concepts and techniques for integrating yoga into psychotherapy. Each session explores both practical and philosophical overlap between the practices of yoga and trauma treatment. Students will practice and learn to lead 4 gentle yoga sequences\, 4 yogic breathing techniques\, and 4 grounding resources for offering yoga safely and effectively to clients with trauma histories. These skills are also useful  as self-care to mitigate risk of burnout for those working in stressful environments. No prior training in yoga\, trauma treatment\, or EMDR is required. \nParticipants will be able to: \n\nDefine Sanskrit terms Yoga\, Asana\, Ahimsa\, Prana\, and Pranayama in English and describe how each term relates to trauma therapy.\nChoose appropriate timing for utilizing yoga postures\, concepts\, and breathing techniques in clinical practice\, including resourcing/stabilization\, during trauma processing\, and post-treatment integration. Connections between trauma-aware yoga and the 8 Phases of EMDR will be explored.\nSolve trauma related challenges including negative beliefs\, difficult emotions\, and painful sensations that may emerge during yoga practice using skills of external grounding\, window of tolerance\, internal resources\, non-judgmental awareness\, self-compassion\, and/or choice.\nUnderstand social justice concepts of empowerment and oppression and how they relate to offering yoga in psychotherapy in a trauma-informed manner.\nPractice effectively and safely leading 4 different yoga scripts: Yoga Unites/Trauma Divides\, Non-Judgmental Awareness\, Finding Our Centers\, and Grounding Yoga Sequence.
URL:https://www.humanserviceforum.org/event/trauma-informed-yoga-for-therapists-and-their-clients/
CATEGORIES:Community Calendar,HSF Member Event
END:VEVENT
END:VCALENDAR