BEGIN:VCALENDAR
VERSION:2.0
PRODID:-//Human Service Forum - ECPv6.15.20//NONSGML v1.0//EN
CALSCALE:GREGORIAN
METHOD:PUBLISH
X-ORIGINAL-URL:https://www.humanserviceforum.org
X-WR-CALDESC:Events for Human Service Forum
REFRESH-INTERVAL;VALUE=DURATION:PT1H
X-Robots-Tag:noindex
X-PUBLISHED-TTL:PT1H
BEGIN:VTIMEZONE
TZID:America/New_York
BEGIN:DAYLIGHT
TZOFFSETFROM:-0500
TZOFFSETTO:-0400
TZNAME:EDT
DTSTART:20240310T070000
END:DAYLIGHT
BEGIN:STANDARD
TZOFFSETFROM:-0400
TZOFFSETTO:-0500
TZNAME:EST
DTSTART:20241103T060000
END:STANDARD
BEGIN:DAYLIGHT
TZOFFSETFROM:-0500
TZOFFSETTO:-0400
TZNAME:EDT
DTSTART:20250309T070000
END:DAYLIGHT
BEGIN:STANDARD
TZOFFSETFROM:-0400
TZOFFSETTO:-0500
TZNAME:EST
DTSTART:20251102T060000
END:STANDARD
BEGIN:DAYLIGHT
TZOFFSETFROM:-0500
TZOFFSETTO:-0400
TZNAME:EDT
DTSTART:20260308T070000
END:DAYLIGHT
BEGIN:STANDARD
TZOFFSETFROM:-0400
TZOFFSETTO:-0500
TZNAME:EST
DTSTART:20261101T060000
END:STANDARD
END:VTIMEZONE
BEGIN:VEVENT
DTSTART;TZID=America/New_York:20250327T173000
DTEND;TZID=America/New_York:20250327T210000
DTSTAMP:20260424T013939
CREATED:20250128T162319Z
LAST-MODIFIED:20250128T163635Z
UID:10005423-1743096600-1743109200@www.humanserviceforum.org
SUMMARY:Urban League of Springfield Anniversary Celebration
DESCRIPTION:Story \nOn Thursday\, March 27\, 2025\, the Urban League of Springfield’s Anniversary Celebration will shine a spotlight on the people who embody our mission of empowerment and equity. This year’s theme\, Rise Up\, reflects both our 112-year legacy and the ongoing work to create opportunities for growth\, justice\, and community strength in Greater Springfield. \nAt the heart of the evening\, we’ll honor our Community Builder Awardees\, extraordinary individuals and organizations who exemplify the values of the Urban League. From fostering education and economic self-sufficiency to advancing social justice\, their stories are living testaments to the transformative impact of our programs. \n 
URL:https://www.humanserviceforum.org/event/87611/
CATEGORIES:Community Calendar,HSF Member Event
END:VEVENT
END:VCALENDAR