BEGIN:VCALENDAR
VERSION:2.0
PRODID:-//Human Service Forum - ECPv6.15.20//NONSGML v1.0//EN
CALSCALE:GREGORIAN
METHOD:PUBLISH
X-WR-CALNAME:Human Service Forum
X-ORIGINAL-URL:https://www.humanserviceforum.org
X-WR-CALDESC:Events for Human Service Forum
REFRESH-INTERVAL;VALUE=DURATION:PT1H
X-Robots-Tag:noindex
X-PUBLISHED-TTL:PT1H
BEGIN:VTIMEZONE
TZID:America/New_York
BEGIN:DAYLIGHT
TZOFFSETFROM:-0500
TZOFFSETTO:-0400
TZNAME:EDT
DTSTART:20230312T070000
END:DAYLIGHT
BEGIN:STANDARD
TZOFFSETFROM:-0400
TZOFFSETTO:-0500
TZNAME:EST
DTSTART:20231105T060000
END:STANDARD
BEGIN:DAYLIGHT
TZOFFSETFROM:-0500
TZOFFSETTO:-0400
TZNAME:EDT
DTSTART:20240310T070000
END:DAYLIGHT
BEGIN:STANDARD
TZOFFSETFROM:-0400
TZOFFSETTO:-0500
TZNAME:EST
DTSTART:20241103T060000
END:STANDARD
BEGIN:DAYLIGHT
TZOFFSETFROM:-0500
TZOFFSETTO:-0400
TZNAME:EDT
DTSTART:20250309T070000
END:DAYLIGHT
BEGIN:STANDARD
TZOFFSETFROM:-0400
TZOFFSETTO:-0500
TZNAME:EST
DTSTART:20251102T060000
END:STANDARD
BEGIN:DAYLIGHT
TZOFFSETFROM:-0500
TZOFFSETTO:-0400
TZNAME:EDT
DTSTART:20260308T070000
END:DAYLIGHT
BEGIN:STANDARD
TZOFFSETFROM:-0400
TZOFFSETTO:-0500
TZNAME:EST
DTSTART:20261101T060000
END:STANDARD
END:VTIMEZONE
BEGIN:VEVENT
DTSTART;TZID=America/New_York:20250530T093000
DTEND;TZID=America/New_York:20250530T120000
DTSTAMP:20260424T015310
CREATED:20250514T125729Z
LAST-MODIFIED:20250514T125729Z
UID:10006684-1748597400-1748606400@www.humanserviceforum.org
SUMMARY:Western Massachusetts Network to End Homelessness 9th Annual Regional Gathering
DESCRIPTION:Bold Leadership in Uncertain Times\nWestern Massachusetts Network to End Homelessness 9th Annual Regional Gathering\n\n\n\nPlease join our Network partners\, legislative and municipal leaders and community members as we gather in solidarity\, in gratitude for our community\, and in determination to provide safe and stable housing to our most vulnerable residents across western Massachusetts. \n9:30am: refreshments & networking\n10–11am: program\n11am: more networking! \nIn-person attendance is full but please click here to register for Zoom access.
URL:https://www.humanserviceforum.org/event/western-massachusetts-network-to-end-homelessness-9th-annual-regional-gathering/
CATEGORIES:Community Calendar,HSF Member Event
END:VEVENT
BEGIN:VEVENT
DTSTART;TZID=America/New_York:20240613T090000
DTEND;TZID=America/New_York:20240613T160000
DTSTAMP:20260424T015310
CREATED:20240604T132604Z
LAST-MODIFIED:20240604T132604Z
UID:10003039-1718269200-1718294400@www.humanserviceforum.org
SUMMARY:Housing First Training
DESCRIPTION:The Springfield-Hampden County Continuum of Care is pleased to offer: \nHousing First Training\nJune 12 and 13\n9 am – 4 pm each day\nCarriage House at the Barney – in Forest Park\n200 Trafton Rd.\, Springfield\, MA\nMorning refreshments and lunch provided\nRegister here: https://forms.gle/xUzd6wWwTs5F4GLt9 \nThis training\, conducted by trainers from the Corporation for Supportive Housing\, is designed to support programs currently or planning to operate housing programs that will serve people exiting homelessness and will operate using a Housing First low-threshold model. \nTraining participants will gain: \n\na foundational understanding of housing first concepts;\nstrategies to build relationships with tenants and property managers;\nan outline to guide development of a project-specific tenant guide to give to your program participants;\na Learner’s Guide for trainees to take away that reinforces the information shared and provides additional resources;\nand connection to a peer network for support after the training ends.\n\nTopics will also include differentiating between the roles of property management and case management\, what Housing First looks like in practice\, development of emergency procedures and incident reporting\, how to address common challenges (using case studies)\, and eviction prevention. \nThe training is appropriate for directors\, managers\, and program staff. There is no limit to the number of participants from a single agency.
URL:https://www.humanserviceforum.org/event/housing-first-training/2024-06-13/
CATEGORIES:Community Calendar,HSF Member Event
END:VEVENT
END:VCALENDAR