BEGIN:VCALENDAR
VERSION:2.0
PRODID:-//Human Service Forum - ECPv6.15.20//NONSGML v1.0//EN
CALSCALE:GREGORIAN
METHOD:PUBLISH
X-WR-CALNAME:Human Service Forum
X-ORIGINAL-URL:https://www.humanserviceforum.org
X-WR-CALDESC:Events for Human Service Forum
REFRESH-INTERVAL;VALUE=DURATION:PT1H
X-Robots-Tag:noindex
X-PUBLISHED-TTL:PT1H
BEGIN:VTIMEZONE
TZID:America/New_York
BEGIN:DAYLIGHT
TZOFFSETFROM:-0500
TZOFFSETTO:-0400
TZNAME:EDT
DTSTART:20230312T070000
END:DAYLIGHT
BEGIN:STANDARD
TZOFFSETFROM:-0400
TZOFFSETTO:-0500
TZNAME:EST
DTSTART:20231105T060000
END:STANDARD
BEGIN:DAYLIGHT
TZOFFSETFROM:-0500
TZOFFSETTO:-0400
TZNAME:EDT
DTSTART:20240310T070000
END:DAYLIGHT
BEGIN:STANDARD
TZOFFSETFROM:-0400
TZOFFSETTO:-0500
TZNAME:EST
DTSTART:20241103T060000
END:STANDARD
BEGIN:DAYLIGHT
TZOFFSETFROM:-0500
TZOFFSETTO:-0400
TZNAME:EDT
DTSTART:20250309T070000
END:DAYLIGHT
BEGIN:STANDARD
TZOFFSETFROM:-0400
TZOFFSETTO:-0500
TZNAME:EST
DTSTART:20251102T060000
END:STANDARD
BEGIN:DAYLIGHT
TZOFFSETFROM:-0500
TZOFFSETTO:-0400
TZNAME:EDT
DTSTART:20260308T070000
END:DAYLIGHT
BEGIN:STANDARD
TZOFFSETFROM:-0400
TZOFFSETTO:-0500
TZNAME:EST
DTSTART:20261101T060000
END:STANDARD
BEGIN:DAYLIGHT
TZOFFSETFROM:-0500
TZOFFSETTO:-0400
TZNAME:EDT
DTSTART:20270314T070000
END:DAYLIGHT
BEGIN:STANDARD
TZOFFSETFROM:-0400
TZOFFSETTO:-0500
TZNAME:EST
DTSTART:20271107T060000
END:STANDARD
END:VTIMEZONE
BEGIN:VEVENT
DTSTART;TZID=America/New_York:20260227T123000
DTEND;TZID=America/New_York:20260227T143000
DTSTAMP:20260423T181629
CREATED:20260211T125634Z
LAST-MODIFIED:20260211T125634Z
UID:10007828-1772195400-1772202600@www.humanserviceforum.org
SUMMARY:Memory Training
DESCRIPTION:A four-week workshop series (2 hours for each session)\, this workshop is for people with mild age-related memory challenges\, Memory Training teaches memory-enhancing techniques and practical strategies to boost memory functioning. Not intended for people with dementia or Alzheimer’s. \n\nWinter 2026: Fridays from February 27-March 23\, 12:30-2:30 p.m. In-person at the Holyoke Senior Center\n\nSummer 2026: Mondays\, June 1-22\, 1:00-3:00 p.m. In-person at Chicopee RiverMills Senior Center\nFall 2026: Tuesdays\, October 6 – 27\, 1:00-3:00 p.m. In-person at Mont Marie Senior Housing\, Holyoke
URL:https://www.humanserviceforum.org/event/memory-training/2026-02-27/
CATEGORIES:Community Calendar,HSF Member Event
END:VEVENT
BEGIN:VEVENT
DTSTART;TZID=America/New_York:20250605T080000
DTEND;TZID=America/New_York:20250605T160000
DTSTAMP:20260423T181629
CREATED:20250514T110003Z
LAST-MODIFIED:20250514T110003Z
UID:10006678-1749110400-1749139200@www.humanserviceforum.org
SUMMARY:33rd Annual Western Mass Elder Care Conference
DESCRIPTION:— Time to Reflect!\nWHEN: June 5th – Thursday\nWHERE: Holyoke Community College – Kittredge Center \nRegistration begins at 8AM\nOpening remarks begin at 8:45AM\nConference runs until 4PM \n*** Must be present and accounted for in order to receive CEU’s. There will be sign in sheets for every workshop\, be sure you are signed in.\n*** Workshop Presenters — be sure to drop sign in sheets back at registration after your workshops ends. \nSPONSORSHIPS NOW OPEN! Two new Sponsor opportunities added – Marketing Sponsorship as well as Conference Lanyard Sponsorship – Go to Sponsors Page for more information.\nVENDOR TABLES NOW OPEN! Go to Vendors Page for more information. \nThis is a perfect opportunity to get in front of 300 of our local eldercare professionals. Thank you.
URL:https://www.humanserviceforum.org/event/33rd-annual-western-mass-elder-care-conference/
CATEGORIES:Community Calendar,HSF Member Event
END:VEVENT
BEGIN:VEVENT
DTSTART;TZID=America/New_York:20240812T130000
DTEND;TZID=America/New_York:20240812T150000
DTSTAMP:20260423T181629
CREATED:20240617T113808Z
LAST-MODIFIED:20240617T113808Z
UID:10003051-1723467600-1723474800@www.humanserviceforum.org
SUMMARY:The Savvy Caregiver
DESCRIPTION:Savvy Caregiver® is a class for family and friends caring for someone living with memory loss or\nAlzheimer’s disease. \nFor most family caregivers\, caregiving is a new role and one for which training is needed-just as you\nwould receive training for any new job. The Savvy Caregiver® Program helps caregivers better understand\nthe changes their loved ones are experiencing\, and how to best provide individualized care for them\nthroughout the progression of Alzheimer’s disease or dementia. Participants will learn how to feel better\nabout their caregiver role and how to care for themselves. The Savvy Caregiver® Program was developed\nby experts in caregiving techniques and goes beyond introductory educational offerings to provide\nclinical-level training for family caregivers. \nParticipants will receive a manual to refer to at home\, and have homework that provides opportunities to\nput new knowledge to work\, practice new skills\, and assess how things are going between class. \nThe class will be taught by Monica Crespo\, BS\, BA\, Caregiver Specialist with WestMass ElderCare and\nCarol Constant\, CDP\, both of whom are certified Savvy Caregiver® Group Leaders. \nThe six-week class is free\, but registration is required; please contact Sabrina Denesha (413)538-9020\,\next. 470 or sdenesha@wmeldercare.org to register for the class by July 2. Please contact Monica Crespo\n(413)538-9020\, ext. 403 or mcrespo@wmeldercare.org to inquire about course content or respite care\nopportunities for class participants.
URL:https://www.humanserviceforum.org/event/the-savvy-caregiver/2024-08-12/
LOCATION:RiverMills Senior Center\, 5 W. Main Street\, Chicopee\, 01020\, United States
CATEGORIES:Community Calendar,HSF Member Event
END:VEVENT
BEGIN:VEVENT
DTSTART;TZID=America/New_York:20240808T080000
DTEND;TZID=America/New_York:20240808T170000
DTSTAMP:20260423T181629
CREATED:20240731T125437Z
LAST-MODIFIED:20240731T125437Z
UID:10003226-1723104000-1723136400@www.humanserviceforum.org
SUMMARY:50th Online Auction Bidding Opens
DESCRIPTION:We’re thrilled to celebrate five decades of dedicated service to  older adults\, individuals with disabilities\, and their incredible caregivers. Your participation in this exciting auction not only promises a treasure trove of fantastic items but also helps us continue our mission of providing essential programs and support. \nGet ready to bid\, win\, and make a meaningful impact! Let’s come together\, have some fun\, and ensure that everyone in our community can age with dignity and independence. Happy bidding!
URL:https://www.humanserviceforum.org/event/50th-online-auction-bidding-opens/
CATEGORIES:Community Calendar,HSF Member Event
END:VEVENT
END:VCALENDAR