BEGIN:VCALENDAR
VERSION:2.0
PRODID:-//Human Service Forum - ECPv6.15.20//NONSGML v1.0//EN
CALSCALE:GREGORIAN
METHOD:PUBLISH
X-ORIGINAL-URL:https://www.humanserviceforum.org
X-WR-CALDESC:Events for Human Service Forum
REFRESH-INTERVAL;VALUE=DURATION:PT1H
X-Robots-Tag:noindex
X-PUBLISHED-TTL:PT1H
BEGIN:VTIMEZONE
TZID:America/New_York
BEGIN:DAYLIGHT
TZOFFSETFROM:-0500
TZOFFSETTO:-0400
TZNAME:EDT
DTSTART:20240310T070000
END:DAYLIGHT
BEGIN:STANDARD
TZOFFSETFROM:-0400
TZOFFSETTO:-0500
TZNAME:EST
DTSTART:20241103T060000
END:STANDARD
BEGIN:DAYLIGHT
TZOFFSETFROM:-0500
TZOFFSETTO:-0400
TZNAME:EDT
DTSTART:20250309T070000
END:DAYLIGHT
BEGIN:STANDARD
TZOFFSETFROM:-0400
TZOFFSETTO:-0500
TZNAME:EST
DTSTART:20251102T060000
END:STANDARD
BEGIN:DAYLIGHT
TZOFFSETFROM:-0500
TZOFFSETTO:-0400
TZNAME:EDT
DTSTART:20260308T070000
END:DAYLIGHT
BEGIN:STANDARD
TZOFFSETFROM:-0400
TZOFFSETTO:-0500
TZNAME:EST
DTSTART:20261101T060000
END:STANDARD
END:VTIMEZONE
BEGIN:VEVENT
DTSTART;TZID=America/New_York:20250617T163000
DTEND;TZID=America/New_York:20250617T190000
DTSTAMP:20260425T093015
CREATED:20250527T163219Z
LAST-MODIFIED:20250527T163219Z
UID:10007071-1750177800-1750186800@www.humanserviceforum.org
SUMMARY:Bloom for Change
DESCRIPTION:A Garden Party to Advance Gender Equity\nCultivating Community\, Friendship & Collective Action\nTuesday\, June 17th | 4:30 – 7:00 PM\nHosted by Lynn Griesemer and Bryan Harvey\nPrivate Home | Amherst MA | Address provided in follow-up emails\n \nJoin us for Bloom for Change: A Garden Party to Advance Gender Equity! It will be an inspiring evening of purpose and possibility. \nSurrounded by beautiful blooms and good friends\, we’ll celebrate the power of community to empower women and girls across our region. Together\, we’ll cultivate a future where all can flourish through friendship\, philanthropy\, and collective action. \nThis is a fundraising event—an opportunity to connect with the Women’s Fund\, invest in gender equity\, and introduce others to the movement. We hope you’ll invite a friend who would be inspired to grow with us. \nWhile your presence at our Garden Party is a wonderful show of support\, we invite you to consider making an additional contribution to help our initiatives for women\, girls\, and gender diverse individuals to flourish. Every gift\, like each raindrop in a garden\, combines to create remarkable growth. We are anticipating that the new year\, which for us begins on July 1\, will begin our transformation as we embark on strategic planning and coordinating the groundwork for our 30th anniversary celebration. \nRSVP by Friday\, June 6th. Capacity is limited. \nQuestions? Contact: info@mywomensfund.org \nLet’s gather. Let’s celebrate. Let’s grow something powerful—together. \nYou can support the Women’s Fund in many ways. Learn how here!
URL:https://www.humanserviceforum.org/event/bloom-for-change/
CATEGORIES:Community Calendar,HSF Member Event
END:VEVENT
END:VCALENDAR