BEGIN:VCALENDAR
VERSION:2.0
PRODID:-//Human Service Forum - ECPv6.15.20//NONSGML v1.0//EN
CALSCALE:GREGORIAN
METHOD:PUBLISH
X-WR-CALNAME:Human Service Forum
X-ORIGINAL-URL:https://www.humanserviceforum.org
X-WR-CALDESC:Events for Human Service Forum
REFRESH-INTERVAL;VALUE=DURATION:PT1H
X-Robots-Tag:noindex
X-PUBLISHED-TTL:PT1H
BEGIN:VTIMEZONE
TZID:America/New_York
BEGIN:DAYLIGHT
TZOFFSETFROM:-0500
TZOFFSETTO:-0400
TZNAME:EDT
DTSTART:20230312T070000
END:DAYLIGHT
BEGIN:STANDARD
TZOFFSETFROM:-0400
TZOFFSETTO:-0500
TZNAME:EST
DTSTART:20231105T060000
END:STANDARD
BEGIN:DAYLIGHT
TZOFFSETFROM:-0500
TZOFFSETTO:-0400
TZNAME:EDT
DTSTART:20240310T070000
END:DAYLIGHT
BEGIN:STANDARD
TZOFFSETFROM:-0400
TZOFFSETTO:-0500
TZNAME:EST
DTSTART:20241103T060000
END:STANDARD
BEGIN:DAYLIGHT
TZOFFSETFROM:-0500
TZOFFSETTO:-0400
TZNAME:EDT
DTSTART:20250309T070000
END:DAYLIGHT
BEGIN:STANDARD
TZOFFSETFROM:-0400
TZOFFSETTO:-0500
TZNAME:EST
DTSTART:20251102T060000
END:STANDARD
END:VTIMEZONE
BEGIN:VEVENT
DTSTART;TZID=America/New_York:20240310T140000
DTEND;TZID=America/New_York:20240310T160000
DTSTAMP:20260424T060747
CREATED:20240220T172931Z
LAST-MODIFIED:20240220T172931Z
UID:10001825-1710079200-1710086400@www.humanserviceforum.org
SUMMARY:Field Notes
DESCRIPTION:Field Notes returns!\nGet your tickets now for Field Notes\, CISA’s live storytelling event celebrating the many ways local food and farming leave their mark on our lives and in our communities. This show is for everyone who grows\, cooks\, or eats food! \nSunday\, March 10\, 2024 at 2:00 pm\nDoors at 1:30 pm \n(Note this is the Sunday of the time change!)\nAcademy of Music Theatre\n274 Main Street\, Northampton\, MA \nGeneral Admission Ticket Prices:\n$10.00 – $30.00 (All Fees Included)\nFree public parking on Sundays! \nBuy tickets online at\nhttp://tinyurl.com/CISAFN2024
URL:https://www.humanserviceforum.org/event/field-notes/
LOCATION:Academy of Music\, Northampton\, MA\, 01060\, United States
CATEGORIES:Community Calendar,HSF Member Event
ATTACH;FMTTYPE=image/png:https://www.humanserviceforum.org/wp-content/uploads/2024/02/CISA-Logo-Green-RGB_Full-V-1.png
GEO:42.3250492;-72.6411923
END:VEVENT
END:VCALENDAR