BEGIN:VCALENDAR
VERSION:2.0
PRODID:-//Human Service Forum - ECPv6.15.20//NONSGML v1.0//EN
CALSCALE:GREGORIAN
METHOD:PUBLISH
X-ORIGINAL-URL:https://www.humanserviceforum.org
X-WR-CALDESC:Events for Human Service Forum
REFRESH-INTERVAL;VALUE=DURATION:PT1H
X-Robots-Tag:noindex
X-PUBLISHED-TTL:PT1H
BEGIN:VTIMEZONE
TZID:America/New_York
BEGIN:DAYLIGHT
TZOFFSETFROM:-0500
TZOFFSETTO:-0400
TZNAME:EDT
DTSTART:20230312T070000
END:DAYLIGHT
BEGIN:STANDARD
TZOFFSETFROM:-0400
TZOFFSETTO:-0500
TZNAME:EST
DTSTART:20231105T060000
END:STANDARD
BEGIN:DAYLIGHT
TZOFFSETFROM:-0500
TZOFFSETTO:-0400
TZNAME:EDT
DTSTART:20240310T070000
END:DAYLIGHT
BEGIN:STANDARD
TZOFFSETFROM:-0400
TZOFFSETTO:-0500
TZNAME:EST
DTSTART:20241103T060000
END:STANDARD
BEGIN:DAYLIGHT
TZOFFSETFROM:-0500
TZOFFSETTO:-0400
TZNAME:EDT
DTSTART:20250309T070000
END:DAYLIGHT
BEGIN:STANDARD
TZOFFSETFROM:-0400
TZOFFSETTO:-0500
TZNAME:EST
DTSTART:20251102T060000
END:STANDARD
BEGIN:DAYLIGHT
TZOFFSETFROM:-0500
TZOFFSETTO:-0400
TZNAME:EDT
DTSTART:20260308T070000
END:DAYLIGHT
BEGIN:STANDARD
TZOFFSETFROM:-0400
TZOFFSETTO:-0500
TZNAME:EST
DTSTART:20261101T060000
END:STANDARD
END:VTIMEZONE
BEGIN:VEVENT
DTSTART;TZID=America/New_York:20250912T100000
DTEND;TZID=America/New_York:20250912T180000
DTSTAMP:20260424T034044
CREATED:20250515T163655Z
LAST-MODIFIED:20250515T163655Z
UID:10007056-1757671200-1757700000@www.humanserviceforum.org
SUMMARY:River Valley Counseling Center 10th Annual Golf Tournament
DESCRIPTION:Save the date! River Valley Counseling Center’s 10th Annual Golf Tournament\, presented by CATALDO AMBULANCE SERVICE is taking place Friday\, September 12\, 2025\, at East Mountain Country Club in Westfield. \nGrab your clubs and make a difference! Your participation supports the children\, teens\, and their families in need of our programs. By improving mental health\, we help children be more focused and involved in school\, setting them up for a brighter future. \nThe day will include 18 holes\, golf cart\, lunch\, dinner\, gift bag\, contests\, and prizes too.\nTo register individually\, as a foursome\, or to learn more about the various sponsorship and in-kind donation opportunities\, please visit www.rvccinc.org/golf
URL:https://www.humanserviceforum.org/event/river-valley-counseling-center-10th-annual-golf-tournament/
LOCATION:East Mountain Country Club\, 1458 East Mountain Road\, Westfield\, MA\, United States
CATEGORIES:Community Calendar,HSF Member Event
ORGANIZER;CN="River Valley Counseling Center":MAILTO:callahan_angela@holyokehealth.com
GEO:42.155384;-72.702463
X-APPLE-STRUCTURED-LOCATION;VALUE=URI;X-ADDRESS=East Mountain Country Club 1458 East Mountain Road Westfield MA United States;X-APPLE-RADIUS=500;X-TITLE=1458 East Mountain Road:geo:-72.702463,42.155384
END:VEVENT
BEGIN:VEVENT
DTSTART;VALUE=DATE:20240913
DTEND;VALUE=DATE:20240914
DTSTAMP:20260424T034044
CREATED:20240827T115607Z
LAST-MODIFIED:20240827T115607Z
UID:10003282-1726185600-1726271999@www.humanserviceforum.org
SUMMARY:River Valley Counseling Center 9th Annual Golf Tournament
DESCRIPTION:River Valley Counseling Center’s 9th Annual Golf Tournament\, presented by CATALDO AMBULANCE SERVICE is taking place Friday\, September 13\, 2024\, at East Mountain Country Club in Westfield. \nTee off with us for a great cause! Funds raised will directly benefit the children\, teens\, and their families who receive our life-changing services. Improved mental health and emotional well-being allow children to be more focused and involved in school\, therefore better preparing them for a brighter socio-economic future. \nThe day will include 18 holes\, golf cart\, lunch\, dinner\, gift bag\, contests\, and prizes too. To register individually\, as a foursome\, or to learn more about the various sponsorship and in-kind donation opportunities\, please visit www.rvccinc.org/golf/ \nWe hope to see you there!
URL:https://www.humanserviceforum.org/event/river-valley-counseling-center-9th-annual-golf-tournament/
LOCATION:East Mountain Country Club\, 1458 East Mountain Road\, Westfield\, MA\, United States
CATEGORIES:Community Calendar,HSF Member Event
GEO:42.155384;-72.702463
X-APPLE-STRUCTURED-LOCATION;VALUE=URI;X-ADDRESS=East Mountain Country Club 1458 East Mountain Road Westfield MA United States;X-APPLE-RADIUS=500;X-TITLE=1458 East Mountain Road:geo:-72.702463,42.155384
END:VEVENT
BEGIN:VEVENT
DTSTART;VALUE=DATE:20240913
DTEND;VALUE=DATE:20240914
DTSTAMP:20260424T034044
CREATED:20240523T110123Z
LAST-MODIFIED:20240523T110123Z
UID:10002084-1726185600-1726271999@www.humanserviceforum.org
SUMMARY:9th Annual River Valley Counseling Ctr. Golf Tournament
DESCRIPTION:Again\, RVCC is hosting its golf tournament for the 9th year on Friday\, September 13\, 2024. We’re truly grateful for the wonderful support we receive from the many individuals and sponsors who support our mission. \nAs we look ahead to September\, we are excited to continue our mission of providing essential mental health services to our community’s youth. With almost 40% of our clientele being aged 18 and under\, your support is invaluable in ensuring that these individuals receive the care and support they need. \nThrough our collaboration with 11 school districts\, we are able to provide mental health counseling during the school day\, reaching many children and teens where they are most comfortable. This is just one of the many ways we’re having an impact on improved health\, quality of life\, and emotional well-being in the children and teens in the community. \nDate: Friday\, September 13\, 2024\nLocation: East Mountain Country Club\n1458 East Mountain Road\, Westfield\, MA \nEvent Details:\n9:00 am: Registration & Driving Range Opens\n10:30 am: Shotgun Start; Scramble Format\n11 am – 2 pm: Lunch\n4:15 pm: Dinner buffet followed by awards & raffle winners
URL:https://www.humanserviceforum.org/event/9th-annual-river-valley-counseling-ctr-golf-tournament/
LOCATION:East Mountain Country Club\, 1458 East Mountain Road\, Westfield\, MA\, United States
CATEGORIES:Community Calendar,HSF Member Event
ORGANIZER;CN="River Valley Counseling Center":MAILTO:callahan_angela@holyokehealth.com
GEO:42.155384;-72.702463
X-APPLE-STRUCTURED-LOCATION;VALUE=URI;X-ADDRESS=East Mountain Country Club 1458 East Mountain Road Westfield MA United States;X-APPLE-RADIUS=500;X-TITLE=1458 East Mountain Road:geo:-72.702463,42.155384
END:VEVENT
END:VCALENDAR