BEGIN:VCALENDAR
VERSION:2.0
PRODID:-//Human Service Forum - ECPv6.15.20//NONSGML v1.0//EN
CALSCALE:GREGORIAN
METHOD:PUBLISH
X-ORIGINAL-URL:https://www.humanserviceforum.org
X-WR-CALDESC:Events for Human Service Forum
REFRESH-INTERVAL;VALUE=DURATION:PT1H
X-Robots-Tag:noindex
X-PUBLISHED-TTL:PT1H
BEGIN:VTIMEZONE
TZID:America/New_York
BEGIN:DAYLIGHT
TZOFFSETFROM:-0500
TZOFFSETTO:-0400
TZNAME:EDT
DTSTART:20240310T070000
END:DAYLIGHT
BEGIN:STANDARD
TZOFFSETFROM:-0400
TZOFFSETTO:-0500
TZNAME:EST
DTSTART:20241103T060000
END:STANDARD
BEGIN:DAYLIGHT
TZOFFSETFROM:-0500
TZOFFSETTO:-0400
TZNAME:EDT
DTSTART:20250309T070000
END:DAYLIGHT
BEGIN:STANDARD
TZOFFSETFROM:-0400
TZOFFSETTO:-0500
TZNAME:EST
DTSTART:20251102T060000
END:STANDARD
BEGIN:DAYLIGHT
TZOFFSETFROM:-0500
TZOFFSETTO:-0400
TZNAME:EDT
DTSTART:20260308T070000
END:DAYLIGHT
BEGIN:STANDARD
TZOFFSETFROM:-0400
TZOFFSETTO:-0500
TZNAME:EST
DTSTART:20261101T060000
END:STANDARD
END:VTIMEZONE
BEGIN:VEVENT
DTSTART;TZID=America/New_York:20250510T093000
DTEND;TZID=America/New_York:20250510T130000
DTSTAMP:20260424T035456
CREATED:20250317T145224Z
LAST-MODIFIED:20250317T145224Z
UID:10005484-1746869400-1746882000@www.humanserviceforum.org
SUMMARY:Walk/Run for Adoption - Springfield
DESCRIPTION:At MARE\, we know that all children deserve a safe\, loving place to call home. However\, the reality is that in Massachusetts\, there are currently 1\,150 children and teens in foster care awaiting adoption who have no relatives or other potential adopters. \nThat’s why thousands of walkers\, runners\, volunteers\, and supporters from across Massachusetts are participating in the 16th Annual Jordan’s Furniture Walk/Run for Adoption! \nOur Springfield Walk/Run event includes festivities\, food\, games\, and family-friendly fun! Walkers and runners are invited to complete a 5k fun-run. All the funds raised from this event go towards helping children and teens in foster care find adoptive homes! Lace up your sneakers and hit the course in Springfield! This event is a great way to get active while supporting the mission to find loving\, permanent families for children in foster care. Every step counts—join us and be part of the impact!
URL:https://www.humanserviceforum.org/event/walk-run-for-adoption-springfield/
LOCATION:Forest Park\, 302 Sumner Ave\, Springfield\, MA\, 01108\, United States
CATEGORIES:Community Calendar,HSF Member Event
ORGANIZER;CN="Massachusetts Adoption Resource Exchange":MAILTO:anae@mareinc.org
GEO:42.0849934;-72.5651416
X-APPLE-STRUCTURED-LOCATION;VALUE=URI;X-ADDRESS=Forest Park 302 Sumner Ave Springfield MA 01108 United States;X-APPLE-RADIUS=500;X-TITLE=302 Sumner Ave:geo:-72.5651416,42.0849934
END:VEVENT
END:VCALENDAR