BEGIN:VCALENDAR
VERSION:2.0
PRODID:-//Human Service Forum - ECPv6.15.20//NONSGML v1.0//EN
CALSCALE:GREGORIAN
METHOD:PUBLISH
X-WR-CALNAME:Human Service Forum
X-ORIGINAL-URL:https://www.humanserviceforum.org
X-WR-CALDESC:Events for Human Service Forum
REFRESH-INTERVAL;VALUE=DURATION:PT1H
X-Robots-Tag:noindex
X-PUBLISHED-TTL:PT1H
BEGIN:VTIMEZONE
TZID:America/New_York
BEGIN:DAYLIGHT
TZOFFSETFROM:-0500
TZOFFSETTO:-0400
TZNAME:EDT
DTSTART:20240310T070000
END:DAYLIGHT
BEGIN:STANDARD
TZOFFSETFROM:-0400
TZOFFSETTO:-0500
TZNAME:EST
DTSTART:20241103T060000
END:STANDARD
BEGIN:DAYLIGHT
TZOFFSETFROM:-0500
TZOFFSETTO:-0400
TZNAME:EDT
DTSTART:20250309T070000
END:DAYLIGHT
BEGIN:STANDARD
TZOFFSETFROM:-0400
TZOFFSETTO:-0500
TZNAME:EST
DTSTART:20251102T060000
END:STANDARD
BEGIN:DAYLIGHT
TZOFFSETFROM:-0500
TZOFFSETTO:-0400
TZNAME:EDT
DTSTART:20260308T070000
END:DAYLIGHT
BEGIN:STANDARD
TZOFFSETFROM:-0400
TZOFFSETTO:-0500
TZNAME:EST
DTSTART:20261101T060000
END:STANDARD
END:VTIMEZONE
BEGIN:VEVENT
DTSTART;TZID=America/New_York:20251004T090000
DTEND;TZID=America/New_York:20251004T160000
DTSTAMP:20260424T023814
CREATED:20250819T132211Z
LAST-MODIFIED:20250819T132211Z
UID:10007213-1759568400-1759593600@www.humanserviceforum.org
SUMMARY:Ad Club of Western Mass Presents: The Creative Unconference
DESCRIPTION:Join the Ad Club of Western Mass for the Creative Unconference on Saturday\, October 4th at Holyoke Community College!\nThis one-of-a-kind event is designed to inspire\, energize\, and connect the vibrant creative community of Western Massachusetts and beyond.\nUnlike traditional conferences\, the Creative Unconference puts attendees in the driver’s seat. You’ll help shape the agenda\, choose the topics\, and even lead the sessions. It’s a day built on collaboration\, peer learning\, and open dialogue—not passive listening.\nWhether you’re a student just getting started or a seasoned pro\, this unique experience is crafted to educate\, elevate\, and spark new ideas.\nWhen: Saturday\, October 4\, 2025\nTime: 9:00 AM – 4:00 PM\nWhere: Holyoke Community College\, Holyoke\, MA\nTickets and more info at https://www.adclubwm.org/creative-unconference/\nTo become a sponsor\, email info@adclubwm.org
URL:https://www.humanserviceforum.org/event/ad-club-of-western-mass-presents-the-creative-unconference/
LOCATION:Holyoke Community College\, MA\, United States
CATEGORIES:Community Calendar,HSF Non Member Event
ORGANIZER;CN="Ad Club of Western Mass":MAILTO:info@adclubwm.org
GEO:42.4072107;-71.3824374
END:VEVENT
END:VCALENDAR