BEGIN:VCALENDAR
VERSION:2.0
PRODID:-//Human Service Forum - ECPv6.15.20//NONSGML v1.0//EN
CALSCALE:GREGORIAN
METHOD:PUBLISH
X-WR-CALNAME:Human Service Forum
X-ORIGINAL-URL:https://www.humanserviceforum.org
X-WR-CALDESC:Events for Human Service Forum
REFRESH-INTERVAL;VALUE=DURATION:PT1H
X-Robots-Tag:noindex
X-PUBLISHED-TTL:PT1H
BEGIN:VTIMEZONE
TZID:America/New_York
BEGIN:DAYLIGHT
TZOFFSETFROM:-0500
TZOFFSETTO:-0400
TZNAME:EDT
DTSTART:20230312T070000
END:DAYLIGHT
BEGIN:STANDARD
TZOFFSETFROM:-0400
TZOFFSETTO:-0500
TZNAME:EST
DTSTART:20231105T060000
END:STANDARD
BEGIN:DAYLIGHT
TZOFFSETFROM:-0500
TZOFFSETTO:-0400
TZNAME:EDT
DTSTART:20240310T070000
END:DAYLIGHT
BEGIN:STANDARD
TZOFFSETFROM:-0400
TZOFFSETTO:-0500
TZNAME:EST
DTSTART:20241103T060000
END:STANDARD
BEGIN:DAYLIGHT
TZOFFSETFROM:-0500
TZOFFSETTO:-0400
TZNAME:EDT
DTSTART:20250309T070000
END:DAYLIGHT
BEGIN:STANDARD
TZOFFSETFROM:-0400
TZOFFSETTO:-0500
TZNAME:EST
DTSTART:20251102T060000
END:STANDARD
END:VTIMEZONE
BEGIN:VEVENT
DTSTART;TZID=America/New_York:20240403T090000
DTEND;TZID=America/New_York:20240403T123000
DTSTAMP:20260424T010706
CREATED:20231214T191446Z
LAST-MODIFIED:20240304T113456Z
UID:10001128-1712134800-1712147400@www.humanserviceforum.org
SUMMARY:Advanced Management Series 2024
DESCRIPTION:  \n This is presented as a Hybrid event\, available both as a Virtual Workshop Series\, or In Person at our offices located in Easthampton! \nHSF is pleased to announce our ADVANCED MANAGEMENT SKILLS SERIES! This certificate series is designed to invest in and promote leaders from within to secure the future of the human services in Western MA. This program will provide experienced leaders\, supervisors\, managers\, and directors with the high level trainings to gain the skills they need to succeed as they advance in the human service field! \nSession Topics include: \n\nThe Unique Role of Managing from the Middle\nPublic Speaking for Large and Small Groups\nFinancial Management Panel\nNetworking: Building Internal and External Connections\nAdvanced Employment Law\nCulturally Responsive Supervision\n\n  \n\n \n\nThis is a 6 part series! \n*order of sessions may change \n\n\n\nSession 1: THE UNIQUE ROLE OF MANAGING FROM THE MIDDLE \nWednesday February 28th 9am-12:30pm \nSupervisors often find themselves in the position of having to relay the needs of their team and clients up while communicating the mission and needs of the organization down. We will address what information you will communicated to you and will need to communicate to stakeholders. Learn what impact you personally can have on your work environment. \nPresenter: Will Weche \nSession 2: PUBLIC SPEAKING FOR SMALL AND LARGE GROUPS \nWednesday March 6th 9am-12:30pm \nWhether you need to lead a morning team meeting\, give a presentation to your managers\, or speaking to the entire company and investors\, speaking in front of others can be nerve-racking. Learn tips and tricks to Public Speaking that can be used in all circumstances. \nPresenter: Cathy McNally \nSession 3: FINANCIAL MANAGEMENT PANEL \nWednesday March 13th 9am-12:30pm \nOur panel will discuss how money moves through and effects non-profit organizations. Topics to be covered include a nonprofit finance overview\, including where the money comes from\, budgeting\, and internal controls including compliance and audits. The panel will be followed by a question and answer session. \nSession 4: NETWORKING: BUILDING INTERNAL AND EXTERNAL CONNECTIONS \nWednesday March 20th 9am-12:30pm \nLearning the soft skills of business etiquette and social skills can help build connections that help the success of your organizations. Gain partnership within your organization. Become an organizational ambassador as build collegial relationships in a competitive environment. \nPresenters: Janine Fondon and Lucie Lewis \nSession 5: ADVANCED EMPLOYMENT LAW \nWednesday March 27th 9am-12:30pm \nProtect your organization\, yourself and your team from unneeded expensive and time consuming legal issues. This information heavy session takes a deep dive into Employment Law with up to date topics that managers should know. \nPresenter: Tim Murphy \nSession 6: CULTURALLY RESPONSIVE SUPERVISION \nWednesday April 3rd 9am-12:30pm \nGain an understanding of what it means to be Culturally Competent. Understand within group differences on what makes each person unique and respond respectfully to all cultures and identies in a research based management style. \nPresenters: Ysabel Garcia \nCertificates are given out after the final session to all participants who have attended all sessions. \n\n\n\n\n\n*NO makeup sessions will be allowed for this program.* \n\nHSF Annual Sponsors:
URL:https://www.humanserviceforum.org/event/advanced-management-series-2024/2024-04-03/
LOCATION:Human Service Forum Offices\, 203 East Street\, East Hampton\, MA\, 01027\, United States
CATEGORIES:Community Calendar,HSF Event,HSF Member Event,HSF Non Member Event,Workshop
ATTACH;FMTTYPE=image/png:https://www.humanserviceforum.org/wp-content/uploads/2023/02/Advanced-Management.png
END:VEVENT
END:VCALENDAR