BEGIN:VCALENDAR
VERSION:2.0
PRODID:-//Human Service Forum - ECPv6.15.20//NONSGML v1.0//EN
CALSCALE:GREGORIAN
METHOD:PUBLISH
X-ORIGINAL-URL:https://www.humanserviceforum.org
X-WR-CALDESC:Events for Human Service Forum
REFRESH-INTERVAL;VALUE=DURATION:PT1H
X-Robots-Tag:noindex
X-PUBLISHED-TTL:PT1H
BEGIN:VTIMEZONE
TZID:America/New_York
BEGIN:DAYLIGHT
TZOFFSETFROM:-0500
TZOFFSETTO:-0400
TZNAME:EDT
DTSTART:20230312T070000
END:DAYLIGHT
BEGIN:STANDARD
TZOFFSETFROM:-0400
TZOFFSETTO:-0500
TZNAME:EST
DTSTART:20231105T060000
END:STANDARD
BEGIN:DAYLIGHT
TZOFFSETFROM:-0500
TZOFFSETTO:-0400
TZNAME:EDT
DTSTART:20240310T070000
END:DAYLIGHT
BEGIN:STANDARD
TZOFFSETFROM:-0400
TZOFFSETTO:-0500
TZNAME:EST
DTSTART:20241103T060000
END:STANDARD
BEGIN:DAYLIGHT
TZOFFSETFROM:-0500
TZOFFSETTO:-0400
TZNAME:EDT
DTSTART:20250309T070000
END:DAYLIGHT
BEGIN:STANDARD
TZOFFSETFROM:-0400
TZOFFSETTO:-0500
TZNAME:EST
DTSTART:20251102T060000
END:STANDARD
BEGIN:DAYLIGHT
TZOFFSETFROM:-0500
TZOFFSETTO:-0400
TZNAME:EDT
DTSTART:20260308T070000
END:DAYLIGHT
BEGIN:STANDARD
TZOFFSETFROM:-0400
TZOFFSETTO:-0500
TZNAME:EST
DTSTART:20261101T060000
END:STANDARD
END:VTIMEZONE
BEGIN:VEVENT
DTSTART;VALUE=DATE:20250618
DTEND;VALUE=DATE:20250619
DTSTAMP:20260423T183345
CREATED:20250618T133625Z
LAST-MODIFIED:20250618T133625Z
UID:10007094-1750204800-1750291199@www.humanserviceforum.org
SUMMARY:Whole Children and Milestones Summer Registration
DESCRIPTION:Whole Children™ and Milestones offer social and recreational classes in Northampton for kids\, teens\, and adults of all abilities. We have a ton of new classes this session with options like Preschool Music and Movement\, Comic Writing\, Theater Games\, Intro to Friendship Band\, Improv Class and more! \nSummer session runs from July 8- August 23. \nRegister now: https://www.wholechildren.org/class-schedule
URL:https://www.humanserviceforum.org/event/whole-children-and-milestones-summer-registration/
LOCATION:Inclusive Community Center\, 41 Russell St.\, Hadley\, MA\, 01035\, United States
CATEGORIES:Community Calendar,HSF Member Event
ATTACH;FMTTYPE=image/jpeg:https://www.humanserviceforum.org/wp-content/uploads/2025/06/500417505_1280180727445672_7271115801386799042_n.jpg
ORGANIZER;CN="ServiceNet":MAILTO:wpayson@servicenet.org
GEO:42.3391695;-72.6065641
X-APPLE-STRUCTURED-LOCATION;VALUE=URI;X-ADDRESS=Inclusive Community Center 41 Russell St. Hadley MA 01035 United States;X-APPLE-RADIUS=500;X-TITLE=41 Russell St.:geo:-72.6065641,42.3391695
END:VEVENT
BEGIN:VEVENT
DTSTART;TZID=America/New_York:20241210T170000
DTEND;TZID=America/New_York:20241210T193000
DTSTAMP:20260423T183345
CREATED:20241113T150006Z
LAST-MODIFIED:20241113T150006Z
UID:10004748-1733850000-1733859000@www.humanserviceforum.org
SUMMARY:Advocacy 101: How to be the best advocate for your child
DESCRIPTION:This workshop led by Alison Greene will teach you the ins and outs of advocating for your child: How to be more successful by focusing on the most impactful activities that will result in quality supports and services for your child. Learn the processes that turn the wheels of special education\, as well as tips for maintaining both a good relationship with the school and high standards for your child.
URL:https://www.humanserviceforum.org/event/advocacy-101-how-to-be-the-best-advocate-for-your-child/
LOCATION:Inclusive Community Center\, 41 Russell St.\, Hadley\, MA\, 01035\, United States
CATEGORIES:Community Calendar,HSF Member Event
ATTACH;FMTTYPE=image/png:https://www.humanserviceforum.org/wp-content/uploads/2024/11/WC-MS-fall-logo.png
GEO:42.3391695;-72.6065641
X-APPLE-STRUCTURED-LOCATION;VALUE=URI;X-ADDRESS=Inclusive Community Center 41 Russell St. Hadley MA 01035 United States;X-APPLE-RADIUS=500;X-TITLE=41 Russell St.:geo:-72.6065641,42.3391695
END:VEVENT
BEGIN:VEVENT
DTSTART;TZID=America/New_York:20240618T153000
DTEND;TZID=America/New_York:20240618T170000
DTSTAMP:20260423T183345
CREATED:20240522T104237Z
LAST-MODIFIED:20240522T104237Z
UID:10002995-1718724600-1718730000@www.humanserviceforum.org
SUMMARY:Whole Children + Milestones Open House
DESCRIPTION:Want to check out Whole Children and Millstones at our Inclusive Community Center before signing up? Come tour the accessible building\, meet our teachers\, jump in the ball pit\, make a craft and have a snack. This is FREE and open to all ages! Bring your friends and family!\nSave the date for Monday\, June 17 and Tuesday\, June 18\, from 3:30–5 p.m. \nSign up now at pathlight.life/WCopenhouse
URL:https://www.humanserviceforum.org/event/whole-children-milestones-open-house/2024-06-18/
LOCATION:Inclusive Community Center\, 41 Russell St.\, Hadley\, MA\, 01035\, United States
CATEGORIES:Community Calendar,HSF Member Event
GEO:42.3391695;-72.6065641
X-APPLE-STRUCTURED-LOCATION;VALUE=URI;X-ADDRESS=Inclusive Community Center 41 Russell St. Hadley MA 01035 United States;X-APPLE-RADIUS=500;X-TITLE=41 Russell St.:geo:-72.6065641,42.3391695
END:VEVENT
END:VCALENDAR