BEGIN:VCALENDAR
VERSION:2.0
PRODID:-//Human Service Forum - ECPv6.15.20//NONSGML v1.0//EN
CALSCALE:GREGORIAN
METHOD:PUBLISH
X-ORIGINAL-URL:https://www.humanserviceforum.org
X-WR-CALDESC:Events for Human Service Forum
REFRESH-INTERVAL;VALUE=DURATION:PT1H
X-Robots-Tag:noindex
X-PUBLISHED-TTL:PT1H
BEGIN:VTIMEZONE
TZID:America/New_York
BEGIN:DAYLIGHT
TZOFFSETFROM:-0500
TZOFFSETTO:-0400
TZNAME:EDT
DTSTART:20230312T070000
END:DAYLIGHT
BEGIN:STANDARD
TZOFFSETFROM:-0400
TZOFFSETTO:-0500
TZNAME:EST
DTSTART:20231105T060000
END:STANDARD
BEGIN:DAYLIGHT
TZOFFSETFROM:-0500
TZOFFSETTO:-0400
TZNAME:EDT
DTSTART:20240310T070000
END:DAYLIGHT
BEGIN:STANDARD
TZOFFSETFROM:-0400
TZOFFSETTO:-0500
TZNAME:EST
DTSTART:20241103T060000
END:STANDARD
BEGIN:DAYLIGHT
TZOFFSETFROM:-0500
TZOFFSETTO:-0400
TZNAME:EDT
DTSTART:20250309T070000
END:DAYLIGHT
BEGIN:STANDARD
TZOFFSETFROM:-0400
TZOFFSETTO:-0500
TZNAME:EST
DTSTART:20251102T060000
END:STANDARD
BEGIN:DAYLIGHT
TZOFFSETFROM:-0500
TZOFFSETTO:-0400
TZNAME:EDT
DTSTART:20260308T070000
END:DAYLIGHT
BEGIN:STANDARD
TZOFFSETFROM:-0400
TZOFFSETTO:-0500
TZNAME:EST
DTSTART:20261101T060000
END:STANDARD
END:VTIMEZONE
BEGIN:VEVENT
DTSTART;TZID=America/New_York:20250909T140000
DTEND;TZID=America/New_York:20250909T170000
DTSTAMP:20260423T211027
CREATED:20250814T160407Z
LAST-MODIFIED:20250814T160407Z
UID:10007226-1757426400-1757437200@www.humanserviceforum.org
SUMMARY:Northampton Recovery Center hosts Annual Recovery Month Ice Cream Social
DESCRIPTION:Please join us at the Northampton Recovery Center\, 25 Armory St.\, Northampton on Tuesday\, 9/9/25 from 2:00 – 5:00pm for our annual Ice Cream Social to celebrate Recovery Month!! \nFree and open to the public\, learn about the NRC\, have a free scoop of Herrell’s Ice Cream\, and connect. This is a safe/sober and family friendly event. We look forward to seeing you!
URL:https://www.humanserviceforum.org/event/northampton-recovery-center-hosts-annual-recovery-month-ice-cream-social/
LOCATION:Northampton Recovery Center\, 25 Armory Street\, Northampton\, MA\, 01060\, United States
CATEGORIES:Community Calendar,HSF Member Event
END:VEVENT
BEGIN:VEVENT
DTSTART;TZID=America/New_York:20250226T143000
DTEND;TZID=America/New_York:20250226T160000
DTSTAMP:20260423T211027
CREATED:20250203T132822Z
LAST-MODIFIED:20250203T132951Z
UID:10005428-1740580200-1740585600@www.humanserviceforum.org
SUMMARY:Black History Month Film Screenings
DESCRIPTION:Join us in celebrating Black History Month this February at the Northampton Recovery Center. We will be screening three films: Slavery by Another Name (2/5) Freedom Riders (2/12) and Dark Girls (2/26). These events are open to the public and free.
URL:https://www.humanserviceforum.org/event/black-history-month-film-screenings/2025-02-26/
LOCATION:Northampton Recovery Center\, 25 Armory Street\, Northampton\, MA\, 01060\, United States
CATEGORIES:Community Calendar,HSF Member Event
END:VEVENT
BEGIN:VEVENT
DTSTART;TZID=America/New_York:20240224T180000
DTEND;TZID=America/New_York:20240224T200000
DTSTAMP:20260423T211027
CREATED:20240201T155602Z
LAST-MODIFIED:20240201T155602Z
UID:10001817-1708797600-1708804800@www.humanserviceforum.org
SUMMARY:Black History Month Events: Film Screenings
DESCRIPTION:NORTHAMPTON RECOVERY CENTER\nThe Northampton Recovery Center has a strong commitment to Social Justice\nand the uplifting and honoring of the Black voices in our community; this month\nand every month. As a program under the Western Mass Training Consortium\,\nwe are adamant partners in harboring Diversity\, Equity\, and Inclusion in\nHampshire county and beyond. We value the great diversity in our community\,\nand revere the efforts of those who have come before us\, those with us now\, and\nthose who will come after.
URL:https://www.humanserviceforum.org/event/black-history-month-events-film-screenings/2024-02-24/
LOCATION:Northampton Recovery Center\, 25 Armory Street\, Northampton\, MA\, 01060\, United States
CATEGORIES:Community Calendar,HSF Member Event
END:VEVENT
END:VCALENDAR