BEGIN:VCALENDAR
VERSION:2.0
PRODID:-//Human Service Forum - ECPv6.15.20//NONSGML v1.0//EN
CALSCALE:GREGORIAN
METHOD:PUBLISH
X-ORIGINAL-URL:https://www.humanserviceforum.org
X-WR-CALDESC:Events for Human Service Forum
REFRESH-INTERVAL;VALUE=DURATION:PT1H
X-Robots-Tag:noindex
X-PUBLISHED-TTL:PT1H
BEGIN:VTIMEZONE
TZID:America/New_York
BEGIN:DAYLIGHT
TZOFFSETFROM:-0500
TZOFFSETTO:-0400
TZNAME:EDT
DTSTART:20230312T070000
END:DAYLIGHT
BEGIN:STANDARD
TZOFFSETFROM:-0400
TZOFFSETTO:-0500
TZNAME:EST
DTSTART:20231105T060000
END:STANDARD
BEGIN:DAYLIGHT
TZOFFSETFROM:-0500
TZOFFSETTO:-0400
TZNAME:EDT
DTSTART:20240310T070000
END:DAYLIGHT
BEGIN:STANDARD
TZOFFSETFROM:-0400
TZOFFSETTO:-0500
TZNAME:EST
DTSTART:20241103T060000
END:STANDARD
BEGIN:DAYLIGHT
TZOFFSETFROM:-0500
TZOFFSETTO:-0400
TZNAME:EDT
DTSTART:20250309T070000
END:DAYLIGHT
BEGIN:STANDARD
TZOFFSETFROM:-0400
TZOFFSETTO:-0500
TZNAME:EST
DTSTART:20251102T060000
END:STANDARD
END:VTIMEZONE
BEGIN:VEVENT
DTSTART;TZID=America/New_York:20240322T170000
DTEND;TZID=America/New_York:20240322T193000
DTSTAMP:20260424T025943
CREATED:20240220T173040Z
LAST-MODIFIED:20240220T173040Z
UID:10001895-1711126800-1711135800@www.humanserviceforum.org
SUMMARY:Bingo Night for CHD's-MaryAnne's Kids Fund for Foster Children; Presented by Raymour & Flanigan
DESCRIPTION:Raymour & Flanigan will be hosting a Bingo Night supporting CHD’S MaryAnne’s Kids Fund for Foster Care. \nRaffle items and Bingo Prizes. \nRaffle tickets and bingo sheets for purchase** CASH ONLY EVENT \nRaymour & Flanigan – 895 Riverdale St\, West Springfield\, MA 01089
URL:https://www.humanserviceforum.org/event/bingo-night-for-chds-maryannes-kids-fund-for-foster-children-presented-by-raymour-flanigan/
LOCATION:Raymour & Flanigan\, 1406 Elm Street\, West Springfield\, MA\, 01089\, United States
CATEGORIES:Community Calendar,HSF Member Event
GEO:42.1225429;-72.62672
X-APPLE-STRUCTURED-LOCATION;VALUE=URI;X-ADDRESS=Raymour & Flanigan 1406 Elm Street West Springfield MA 01089 United States;X-APPLE-RADIUS=500;X-TITLE=1406 Elm Street:geo:-72.62672,42.1225429
END:VEVENT
END:VCALENDAR