BEGIN:VCALENDAR
VERSION:2.0
PRODID:-//Human Service Forum - ECPv6.15.20//NONSGML v1.0//EN
CALSCALE:GREGORIAN
METHOD:PUBLISH
X-ORIGINAL-URL:https://www.humanserviceforum.org
X-WR-CALDESC:Events for Human Service Forum
REFRESH-INTERVAL;VALUE=DURATION:PT1H
X-Robots-Tag:noindex
X-PUBLISHED-TTL:PT1H
BEGIN:VTIMEZONE
TZID:America/New_York
BEGIN:DAYLIGHT
TZOFFSETFROM:-0500
TZOFFSETTO:-0400
TZNAME:EDT
DTSTART:20230312T070000
END:DAYLIGHT
BEGIN:STANDARD
TZOFFSETFROM:-0400
TZOFFSETTO:-0500
TZNAME:EST
DTSTART:20231105T060000
END:STANDARD
BEGIN:DAYLIGHT
TZOFFSETFROM:-0500
TZOFFSETTO:-0400
TZNAME:EDT
DTSTART:20240310T070000
END:DAYLIGHT
BEGIN:STANDARD
TZOFFSETFROM:-0400
TZOFFSETTO:-0500
TZNAME:EST
DTSTART:20241103T060000
END:STANDARD
BEGIN:DAYLIGHT
TZOFFSETFROM:-0500
TZOFFSETTO:-0400
TZNAME:EDT
DTSTART:20250309T070000
END:DAYLIGHT
BEGIN:STANDARD
TZOFFSETFROM:-0400
TZOFFSETTO:-0500
TZNAME:EST
DTSTART:20251102T060000
END:STANDARD
END:VTIMEZONE
BEGIN:VEVENT
DTSTART;TZID=America/New_York:20240629T090000
DTEND;TZID=America/New_York:20240629T160000
DTSTAMP:20260424T010812
CREATED:20240517T121704Z
LAST-MODIFIED:20240613T162857Z
UID:10002977-1719651600-1719676800@www.humanserviceforum.org
SUMMARY:20th Annual Massachusetts West Region Self Advocacy Conference
DESCRIPTION:Over the last 20 years the conference has been an important opportunity for self-advocates to connect\, collaborate\, learn\, and celebrate each other’s accomplishments. This year we will focus on making and maintaining “Healthy Connections”. Community\, solidarity\, and human connection are driving forces of our movement. While we endeavor to grow as individuals\, we also recognize the meaningful ways that others contribute to our journey. We also know that when people work together revolutionary things happen. We look forward to you celebrating 20 years of advocacy with us! \nFor more information\, please contact Amber Pettell\, Peer Coordinator at apettell@wmtcinfo.org.
URL:https://www.humanserviceforum.org/event/20th-annual-massachusetts-west-region-self-advocacy-conference/
LOCATION:Sheraton Springfield Monarch Place Hotel\, United States
CATEGORIES:Community Calendar,HSF Member Event
END:VEVENT
BEGIN:VEVENT
DTSTART;TZID=America/New_York:20240410T080000
DTEND;TZID=America/New_York:20240410T163000
DTSTAMP:20260424T010812
CREATED:20240201T155315Z
LAST-MODIFIED:20240201T155315Z
UID:10001785-1712736000-1712766600@www.humanserviceforum.org
SUMMARY:33rd Annual Autism Conference
DESCRIPTION:The day-long educational conference brings together agency and education professionals\, families\, parents\, caregivers\, individuals with autism\, sponsors and exhibitors to build knowledge\, inspire and make meaningful connections. \nThe schedule includes: Keynote: Amplifying Acceptance\, Building Independence: How #ActuallyAutistic Perspectives Provide a Strong Foundation for Growth (at any age/throughout the lifespan) by speaker Jennifer Brunton\, Ph.D.; Breakout Sessions; Exhibitor Showcase; breakfast and lunch. \nKeynote and Breakout Sessions will be videotaped and available for one year to all registered attendees.
URL:https://www.humanserviceforum.org/event/33rd-annual-autism-conference/
LOCATION:Sheraton Springfield Monarch Place Hotel\, United States
CATEGORIES:Community Calendar,HSF Member Event
ATTACH;FMTTYPE=image/png:https://www.humanserviceforum.org/wp-content/uploads/2024/01/Conference-logo-2024-700x700-1.png
END:VEVENT
END:VCALENDAR