BEGIN:VCALENDAR
VERSION:2.0
PRODID:-//Human Service Forum - ECPv6.15.20//NONSGML v1.0//EN
CALSCALE:GREGORIAN
METHOD:PUBLISH
X-ORIGINAL-URL:https://www.humanserviceforum.org
X-WR-CALDESC:Events for Human Service Forum
REFRESH-INTERVAL;VALUE=DURATION:PT1H
X-Robots-Tag:noindex
X-PUBLISHED-TTL:PT1H
BEGIN:VTIMEZONE
TZID:America/New_York
BEGIN:DAYLIGHT
TZOFFSETFROM:-0500
TZOFFSETTO:-0400
TZNAME:EDT
DTSTART:20230312T070000
END:DAYLIGHT
BEGIN:STANDARD
TZOFFSETFROM:-0400
TZOFFSETTO:-0500
TZNAME:EST
DTSTART:20231105T060000
END:STANDARD
BEGIN:DAYLIGHT
TZOFFSETFROM:-0500
TZOFFSETTO:-0400
TZNAME:EDT
DTSTART:20240310T070000
END:DAYLIGHT
BEGIN:STANDARD
TZOFFSETFROM:-0400
TZOFFSETTO:-0500
TZNAME:EST
DTSTART:20241103T060000
END:STANDARD
BEGIN:DAYLIGHT
TZOFFSETFROM:-0500
TZOFFSETTO:-0400
TZNAME:EDT
DTSTART:20250309T070000
END:DAYLIGHT
BEGIN:STANDARD
TZOFFSETFROM:-0400
TZOFFSETTO:-0500
TZNAME:EST
DTSTART:20251102T060000
END:STANDARD
END:VTIMEZONE
BEGIN:VEVENT
DTSTART;TZID=America/New_York:20241009T080000
DTEND;TZID=America/New_York:20241009T093000
DTSTAMP:20260424T025945
CREATED:20240417T104305Z
LAST-MODIFIED:20240417T104305Z
UID:10002449-1728460800-1728466200@www.humanserviceforum.org
SUMMARY:United Way of Pioneer Valley – OnBoard Board Basics Series
DESCRIPTION:This session\, facilitated by nonprofit leader and consultant\, Shannon Mumblo\, will present the top 5 things potential board members should consider before joining a board. \nMore than a single event\, OnBoard is a programmatic resource designed to support the health and viability of our community’s nonprofit leadership–the Board. \nHosted by UWPV\, OnBoard has expanded its offerings with a series of instructional webinars\, networking opportunities\, and community engagement activities to prepare anyone for Board service. \nWe invite anyone interested in serving on a Board\, or just interested in learning about the integral role of the Board\, to start your journey with OnBoard.
URL:https://www.humanserviceforum.org/event/united-way-of-pioneer-valley-onboard-board-basics-series/2024-10-09/
LOCATION:TD Bank Center
CATEGORIES:Community Calendar,HSF Member Event
END:VEVENT
END:VCALENDAR