BEGIN:VCALENDAR
VERSION:2.0
PRODID:-//Human Service Forum - ECPv6.15.20//NONSGML v1.0//EN
CALSCALE:GREGORIAN
METHOD:PUBLISH
X-WR-CALNAME:Human Service Forum
X-ORIGINAL-URL:https://www.humanserviceforum.org
X-WR-CALDESC:Events for Human Service Forum
REFRESH-INTERVAL;VALUE=DURATION:PT1H
X-Robots-Tag:noindex
X-PUBLISHED-TTL:PT1H
BEGIN:VTIMEZONE
TZID:America/New_York
BEGIN:DAYLIGHT
TZOFFSETFROM:-0500
TZOFFSETTO:-0400
TZNAME:EDT
DTSTART:20240310T070000
END:DAYLIGHT
BEGIN:STANDARD
TZOFFSETFROM:-0400
TZOFFSETTO:-0500
TZNAME:EST
DTSTART:20241103T060000
END:STANDARD
BEGIN:DAYLIGHT
TZOFFSETFROM:-0500
TZOFFSETTO:-0400
TZNAME:EDT
DTSTART:20250309T070000
END:DAYLIGHT
BEGIN:STANDARD
TZOFFSETFROM:-0400
TZOFFSETTO:-0500
TZNAME:EST
DTSTART:20251102T060000
END:STANDARD
BEGIN:DAYLIGHT
TZOFFSETFROM:-0500
TZOFFSETTO:-0400
TZNAME:EDT
DTSTART:20260308T070000
END:DAYLIGHT
BEGIN:STANDARD
TZOFFSETFROM:-0400
TZOFFSETTO:-0500
TZNAME:EST
DTSTART:20261101T060000
END:STANDARD
END:VTIMEZONE
BEGIN:VEVENT
DTSTART;TZID=America/New_York:20250320T170000
DTEND;TZID=America/New_York:20250320T210000
DTSTAMP:20260424T061540
CREATED:20250220T121551Z
LAST-MODIFIED:20250220T121551Z
UID:10005454-1742490000-1742504400@www.humanserviceforum.org
SUMMARY:The Consortium's 50th Anniversary Celebration - Gallery of Thank Yous!
DESCRIPTION:Join us in person at Union Station in Northampton\, MA as we celebrate this milestone event. Get ready for an evening filled with great food\, music\, and connection as we share our gratitude\, memories\, and appreciation for all those who have supported us throughout the years. This special celebration is our way of saying thank you to all our communities\, partners\, sponsors\, and friends who have made our journey possible. Please come as you are\, celebratory attire encouraged. Here’s to 50 years of making our mission possible in and through community. We can’t wait to celebrate with you!
URL:https://www.humanserviceforum.org/event/the-consortiums-50th-anniversary-celebration-gallery-of-thank-yous/
LOCATION:Union Station
CATEGORIES:Community Calendar,HSF Member Event
END:VEVENT
END:VCALENDAR