BEGIN:VCALENDAR
VERSION:2.0
PRODID:-//Human Service Forum - ECPv6.15.20//NONSGML v1.0//EN
CALSCALE:GREGORIAN
METHOD:PUBLISH
X-ORIGINAL-URL:https://www.humanserviceforum.org
X-WR-CALDESC:Events for Human Service Forum
REFRESH-INTERVAL;VALUE=DURATION:PT1H
X-Robots-Tag:noindex
X-PUBLISHED-TTL:PT1H
BEGIN:VTIMEZONE
TZID:America/New_York
BEGIN:DAYLIGHT
TZOFFSETFROM:-0500
TZOFFSETTO:-0400
TZNAME:EDT
DTSTART:20240310T070000
END:DAYLIGHT
BEGIN:STANDARD
TZOFFSETFROM:-0400
TZOFFSETTO:-0500
TZNAME:EST
DTSTART:20241103T060000
END:STANDARD
BEGIN:DAYLIGHT
TZOFFSETFROM:-0500
TZOFFSETTO:-0400
TZNAME:EDT
DTSTART:20250309T070000
END:DAYLIGHT
BEGIN:STANDARD
TZOFFSETFROM:-0400
TZOFFSETTO:-0500
TZNAME:EST
DTSTART:20251102T060000
END:STANDARD
BEGIN:DAYLIGHT
TZOFFSETFROM:-0500
TZOFFSETTO:-0400
TZNAME:EDT
DTSTART:20260308T070000
END:DAYLIGHT
BEGIN:STANDARD
TZOFFSETFROM:-0400
TZOFFSETTO:-0500
TZNAME:EST
DTSTART:20261101T060000
END:STANDARD
END:VTIMEZONE
BEGIN:VEVENT
DTSTART;TZID=America/New_York:20251118T120000
DTEND;TZID=America/New_York:20251118T130000
DTSTAMP:20260423T230922
CREATED:20251027T131102Z
LAST-MODIFIED:20251027T131102Z
UID:10007495-1763467200-1763470800@www.humanserviceforum.org
SUMMARY:November Lunch & Learn 2025: Introducing Mentor Circles!
DESCRIPTION:Lunch & Learn Sessions meet the 3rd Tuesday of each month from 12-1pm. This is a time for folks to tune in while eating lunch. Join us to learn more about best practices\, stay connected\, and keep up with recent research\, happenings\, and tools. We welcome you as often as you can join us! \nNovember 2025 \nJoin us to discuss and give your input on a new series of workshops from Mass Mentoring Partnership. Mentor Circles will run every third Thursday evening of most months (dates will be adjusted if holidays interfere.) Mentor Circles are virtual\, off-hours opportunities for YOUR PROGRAMS’ MENTORS to connect with other mentors\, build knowledge\, and practice skills related to being the best mentor you can be. Topics will vary. You are encouraged to share the Mentor Circles registration links with your mentors. Come to this Lunch and Learn to give some feedback and find out more!
URL:https://www.humanserviceforum.org/event/november-lunch-learn-2025-introducing-mentor-circles/
LOCATION:Virtual Event
CATEGORIES:Community Calendar,HSF Non Member Event
ATTACH;FMTTYPE=image/png:https://www.humanserviceforum.org/wp-content/uploads/2025/10/MMP-Connects-Fall-2025-3.png
END:VEVENT
END:VCALENDAR