BEGIN:VCALENDAR
VERSION:2.0
PRODID:-//Human Service Forum - ECPv6.15.20//NONSGML v1.0//EN
CALSCALE:GREGORIAN
METHOD:PUBLISH
X-ORIGINAL-URL:https://www.humanserviceforum.org
X-WR-CALDESC:Events for Human Service Forum
REFRESH-INTERVAL;VALUE=DURATION:PT1H
X-Robots-Tag:noindex
X-PUBLISHED-TTL:PT1H
BEGIN:VTIMEZONE
TZID:America/New_York
BEGIN:DAYLIGHT
TZOFFSETFROM:-0500
TZOFFSETTO:-0400
TZNAME:EDT
DTSTART:20230312T070000
END:DAYLIGHT
BEGIN:STANDARD
TZOFFSETFROM:-0400
TZOFFSETTO:-0500
TZNAME:EST
DTSTART:20231105T060000
END:STANDARD
BEGIN:DAYLIGHT
TZOFFSETFROM:-0500
TZOFFSETTO:-0400
TZNAME:EDT
DTSTART:20240310T070000
END:DAYLIGHT
BEGIN:STANDARD
TZOFFSETFROM:-0400
TZOFFSETTO:-0500
TZNAME:EST
DTSTART:20241103T060000
END:STANDARD
BEGIN:DAYLIGHT
TZOFFSETFROM:-0500
TZOFFSETTO:-0400
TZNAME:EDT
DTSTART:20250309T070000
END:DAYLIGHT
BEGIN:STANDARD
TZOFFSETFROM:-0400
TZOFFSETTO:-0500
TZNAME:EST
DTSTART:20251102T060000
END:STANDARD
END:VTIMEZONE
BEGIN:VEVENT
DTSTART;TZID=America/New_York:20240320T130000
DTEND;TZID=America/New_York:20240320T161500
DTSTAMP:20260424T023638
CREATED:20231220T164326Z
LAST-MODIFIED:20240111T123158Z
UID:10001144-1710939600-1710951300@www.humanserviceforum.org
SUMMARY:A Psychodynamic Exploration of Adolescent Antisocial Behavior and Deprivation
DESCRIPTION:Live Interactive Webinar \nInstructor: Huey Hawkins\, Jr.\, Ph.D.\, LCSW \nLevel: Intermediate \nCEs: 3 \nReview CE accreditation and approvals for this course on tab above. \nDr. Huey Hawkins will explore Donald Winnicott’s conceptualization of the antisocial tendency and the role played by deprivation. Speaking from his experiences of nearly 12 years working with a Black male child client in foster care\, Hawkins discusses his provision of a maternal environment during extremely tumultuous times in the client’s life. The foster care system in a large Midwestern city\, intersecting with race and class barriers is also explored.
URL:https://www.humanserviceforum.org/event/a-psychodynamic-exploration-of-adolescent-antisocial-behavior-and-deprivation/
LOCATION:Webinar
CATEGORIES:Community Calendar,HSF Member Event
ORGANIZER;CN="Smith College School for Social Work":MAILTO:mcurtin@smith.edu
END:VEVENT
BEGIN:VEVENT
DTSTART;TZID=America/New_York:20240311T130000
DTEND;TZID=America/New_York:20240311T161500
DTSTAMP:20260424T023638
CREATED:20231220T184934Z
LAST-MODIFIED:20240111T123003Z
UID:10001142-1710162000-1710173700@www.humanserviceforum.org
SUMMARY:Human Trafficking: Special Populations\, Implementing Screeners and Protocols
DESCRIPTION:Live Interactive Webinar \nInstructor: Kimberly Hogan\, MA\, Ph.D.\, LMSW \nLevel: Intermediate \nCEs: 6 \nMarch 4 and 11\, 2024\, 1 – 4:15 p.m. ET \nThis is a multiple-day session. In order to receive CEs\, you must attend both days. \nReview CE accreditation and approvals for this course on tab above. \nThe issue of human trafficking poses ongoing challenges for numerous organizations\, communities and social work professionals across the United States\, as they strive to address this complex problem in a manner that upholds ethical standards and ensures efficient responses. In recognition of the need for education and awareness\, this seminar has been specifically designed as a more in depth human trafficking course\, offering a valuable refresher for those that already have some familiarity with the topic. Participants will learn about supporting special populations and implementing screeners and protocols within social services agencies. By attending this seminar\, participants will gain a solid foundation on special populations and practical ways forward to implement a human trafficking screener and protocol within their organization. \nThe seminar employs a dynamic approach to learning\, combining presentations and engaging breakout room discussions and 1:1 role plays. Through these various modes of instruction\, participants will have ample opportunities to deepen their understanding\, exchange insights with fellow attendees and gain a multifaceted perspective on human trafficking. This comprehensive presentation is not only intended to enhance participants’ individual knowledge but also to empower them to contribute to their respective practices or organizations in their collective efforts to identify and respond to human trafficking situations. By the end of the seminar\, attendees will have significantly bolstered their capacity to address this pressing issue\, ultimately making a positive impact on the lives of trafficking victims and fostering a safer society for all. \nThis seminar is designed for those who have taken an introduction to human trafficking course and are interested in the implementation of a human trafficking screener and protocol development within their social service agency.
URL:https://www.humanserviceforum.org/event/human-trafficking-special-populations-implementing-screeners-and-protocols/2024-03-11/
LOCATION:Webinar
CATEGORIES:Community Calendar,HSF Member Event
ORGANIZER;CN="Smith College School for Social Work":MAILTO:mcurtin@smith.edu
END:VEVENT
BEGIN:VEVENT
DTSTART;TZID=America/New_York:20240229T120000
DTEND;TZID=America/New_York:20240229T151500
DTSTAMP:20260424T023638
CREATED:20231220T184859Z
LAST-MODIFIED:20240212T173624Z
UID:10001140-1709208000-1709219700@www.humanserviceforum.org
SUMMARY:The Relational Psychoanalytic Sensibility
DESCRIPTION:Live Interactive Webinar \nInstructor: Yvette Esprey\, M.A.\, Ph.D. \nLevel: Intermediate \nCEs: 3 \nReview CE accreditation and approvals for this course on tab above. \nThis interactive webinar offers an introduction and deepening discussion around the relational turn which has gained momentum in psychoanalytic thinking and practice over the last four decades. Unpacking the integrative theoretical origins of the paradigm\, the workshop will focus on some of the key principles which inform and scaffold relational clinical practice and supervision. The workshop begins by tracing the origins of the relational tradition\, highlighting its integrative foundations in which can be found the influences of object relations and interpersonal as well as sociological theories. The workshop will spotlight some of the core tenets of the relational frame. In particular\, and drawing on clinical and supervisory vignettes\, we will explore notions of co-construction in the therapeutic relationship\, non-neutrality and the subjectivity of the therapist\, thirdness\, multiple self-states\, social-constructionism and the significance of the social context against which the encounter unfolds. In discussing these central principles\, the relevance of a relational sensibility to the field of clinical social work will be emphasized. \nThe workshop will close with a discussion of the potential of relational thinking and practice to contribute to social justice imperatives\, linking relationality to feminist theory\, queer theory\, critical race theory and positing its potential activism role within the socio-political movements which define our contemporary times. The workshop will consider the contribution which relational psychoanalytic work can make to the social justice issues of our time\, and how relationally-oriented therapists can participate in social activism through the clinical encounter.
URL:https://www.humanserviceforum.org/event/the-relational-psychoanalytic-sensibility/
LOCATION:Webinar
CATEGORIES:Community Calendar,HSF Member Event
ORGANIZER;CN="Smith College School for Social Work":MAILTO:mcurtin@smith.edu
END:VEVENT
BEGIN:VEVENT
DTSTART;TZID=America/New_York:20240226T130000
DTEND;TZID=America/New_York:20240226T161500
DTSTAMP:20260424T023638
CREATED:20231220T164009Z
LAST-MODIFIED:20231220T164009Z
UID:10001139-1708952400-1708964100@www.humanserviceforum.org
SUMMARY:De-centering\, Disrupting and Deconstructing Whiteness in Social Work Settings
DESCRIPTION:Live Interactive Webinar \nInstructor: Shari L. Robinson\, M.S.W.\, ACSW \nLevel: Intermediate \nCEs: 3 \nReview CE accreditation and approvals for this course on tab above. \nIn this interactive virtual workshop\, participants will\, first\, receive a historical review of the role and formation of whiteness in the social work profession. Next\, attendees will be guided through an experience meant to reflect upon the role of whiteness\, white norms and white habits in their personal and professional lives and how to de-center\, disrupt and deconstruct whiteness. Finally\, there will be an exploration of skill-based practices on noticing when whiteness permeates practices and how best to work alongside the systemic challenges of whiteness in clinical settings. \nAs whiteness permeates all of us\, this workshop is not limited to clinicians racialized and/or identified as white. However\, this workshop will best be received by clinicians with some introductory understanding and experience around whiteness. So\, already have an introductory understanding of whiteness and want to dig deeper? Join us!
URL:https://www.humanserviceforum.org/event/de-centering-disrupting-and-deconstructing-whiteness-in-social-work-settings/
LOCATION:Webinar
CATEGORIES:Community Calendar,HSF Member Event
ORGANIZER;CN="Smith College School for Social Work":MAILTO:mcurtin@smith.edu
END:VEVENT
BEGIN:VEVENT
DTSTART;TZID=America/New_York:20240213T120000
DTEND;TZID=America/New_York:20240213T151500
DTSTAMP:20260424T023638
CREATED:20231220T164046Z
LAST-MODIFIED:20240111T122800Z
UID:10001138-1707825600-1707837300@www.humanserviceforum.org
SUMMARY:Cognitive Behavioral Therapy (CBT) for Suicide Prevention
DESCRIPTION:Live Interactive Webinar \nInstructor: Lindsay Bornheimer\, Ph.D.\, LCSW \nLevel: Intermediate \nCEs: 3 \nReview CE accreditation and approvals for this course on tab above. \nSuicide is a leading cause of preventable death in the United States and worldwide. Cognitive-behavioral therapy (CBT) for suicide prevention is an evidence-based intervention that is both valuable and effective in practice with clients. This workshop will provide training for clinicians to learn about the intervention approach and gain skills for delivery\, with a specific focus on the adult population (18+). Clinical skills will be broken down into phases of treatment with use of examples and recommended techniques. Importantly\, anti-oppressive practice will be discussed in addition to navigating challenges in delivering CBT for suicide prevention.
URL:https://www.humanserviceforum.org/event/cognitive-behavioral-therapy-cbt-for-suicide-prevention/
LOCATION:Webinar
CATEGORIES:Community Calendar,HSF Member Event
ORGANIZER;CN="Smith College School for Social Work":MAILTO:mcurtin@smith.edu
END:VEVENT
BEGIN:VEVENT
DTSTART;TZID=America/New_York:20240212T120000
DTEND;TZID=America/New_York:20240212T161500
DTSTAMP:20260424T023638
CREATED:20231220T164125Z
LAST-MODIFIED:20240111T122718Z
UID:10001137-1707739200-1707754500@www.humanserviceforum.org
SUMMARY:Navigating Clinical Racial Dynamics as a Multiracial Therapist
DESCRIPTION:Live Interactive Webinar \nInstructor: Sarah Yang Mumma\, Ph.D.\, LCSW \nLevel: Intermediate \nCEs: 1.5 \nReview CE accreditation and approvals for this course on tab above. \nThis webinar will be recorded. \nA vital aspect of clinical social work education and professional development is engaging with literature that explores the clinical experiences of therapists that hold similar social identities to oneself. The therapist’s experiences of clinical process\, including as it relates to their social identities\, has been the subject of clinical literature. There is empirical research and case studies examining the clinical experiences of white therapists and\, to a lesser extent\, therapists of color; however\, there is limited literature focused on the clinical experiences of multiracial therapists. Having oneself reflected in clinical literature is vital to the professional development of multiracial therapists as they grapple with how their multiracialness emerges and contributes to racial dynamics within the clinical dyad. Careful exploration of countertransference reactions and clinical processes benefit from accessing research on the experiences of other multiracial therapists. For monoracial supervisors supervising multiracial therapists\, knowledge of common experiences of multiracial therapists can improve the quality of supervision they provide. \nThis course draws from empirical research to address common racial dynamics within the multiracial therapist and client dyad. It will explore how multiracial therapists experience\, understand\, and navigate racial dynamics in psychotherapy with diverse clients. It will provide information on common racial clinical experiences multiracial therapists have including racial coding\, countertransference\, therapists use of own race and disclosure. The exploration of these themes is not isolated to the clinical room and acknowledges the impact of broader socio-political context. A composite case study drawn from the instructor’s clinical work will be used to deepen exploration and understanding of these themes. Applying this information to clinical supervision will also be addressed.
URL:https://www.humanserviceforum.org/event/navigating-clinical-racial-dynamics-as-a-multiracial-therapist/
LOCATION:Webinar
CATEGORIES:Community Calendar,HSF Member Event
ORGANIZER;CN="Smith College School for Social Work":MAILTO:mcurtin@smith.edu
END:VEVENT
BEGIN:VEVENT
DTSTART;TZID=America/New_York:20240202T130000
DTEND;TZID=America/New_York:20240202T161500
DTSTAMP:20260424T023638
CREATED:20231220T164202Z
LAST-MODIFIED:20240111T122627Z
UID:10001136-1706878800-1706890500@www.humanserviceforum.org
SUMMARY:Long COVID-19 & Mental Health: Emerging Research and Implications for Practice
DESCRIPTION:Live Interactive Webinar \nInstructor: Ellie Lipton\, M.S.W.\, LCSW\, LICSW \nFebruary 2\, 2024\, 1 – 4:15 p.m. ET \nLevel: Intermediate \nCEs: 3 \nReview CE accreditation and approvals for this course on tab above. \nThe CDC estimates that in 2023 19% of adults in the U.S. are experiencing Long COVID-19 symptoms. Long COVID\, or post-COVID syndrome\, describes a range of symptoms that emerge or persist four weeks after initial infection of SARS-COV-2. Symptoms can impact every organ system in the body\, most notably the cognitive\, cardiac and respiratory systems. Common symptoms include fatigue\, brain fog\, heart palpitations\, muscle weakness\, shortness of breath\, gastrointestinal distress\, changes in mood and post exertional malaise. \nEmerging research overwhelmingly points to Long COVID exacerbating pre-existing mental health symptoms and impacting emergent mental health problems. While researchers are unsure of the cause of Long COVID\, current theories suggest that the COVID-19 virus causes lasting organ damage\, reduces circulating serotonin and/or causes inflammation and autoimmunity. \nThis course will explore the mental health impacts of Long COVID in adults. The course will provide an overview of Long COVID and discuss emerging research on Long COVID\, including Long COVID’s impact on both pre-existing and emergent mental health concerns. This course will include implications for clinical practice and policy creation.
URL:https://www.humanserviceforum.org/event/long-covid-19-mental-health-emerging-research-and-implications-for-practice/
LOCATION:Webinar
CATEGORIES:Community Calendar,HSF Member Event
ORGANIZER;CN="Smith College School for Social Work":MAILTO:mcurtin@smith.edu
END:VEVENT
BEGIN:VEVENT
DTSTART;TZID=America/New_York:20240129T130000
DTEND;TZID=America/New_York:20240129T161500
DTSTAMP:20260424T023638
CREATED:20231031T163950Z
LAST-MODIFIED:20231220T184504Z
UID:10001028-1706533200-1706544900@www.humanserviceforum.org
SUMMARY:Clinical Practice in Treatment Systems: A Psychodynamic Systems Approach
DESCRIPTION:Live Interactive Webinar \nInstructor: Cathleen Morey\, Ph.D.\, LICSW \nLevel: Intermediate \nCEs: 3 \nClinical practice in treatment systems is complex and challenging. Effective clinical practice is contingent on knowledge and skills that are particular for systems-based work involving multiple mental health practitioners and clients interacting in a relational matrix. Yet\, not all clinical theories and constructs that were developed for application in individual\, group\, and family modalities are directly transferable to the practice setting of a treatment system. In this seminar\, Cathleen Morey\, Ph.D.\, LICSW\, outlines a conceptual framework that synthesizes contemporary psychodynamic principles with systems theory – referred to as a psychodynamic systems approach – to inform and advance knowledge of systems-based clinical practice. This approach considers the interplay of dynamic processes among the four levels of the socially co-constructed system\, as well as patient\, staff and organizational factors that uniquely impact clinical processes in systems of care. Five key clinical phenomena are frequently actualized in systems work: transference\, countertransference\, splitting\, projective identification and enactment. Definitions of these phenomena formulated from a dyadic perspective and a contemporary psychodynamic systems approach will be offered\, and their similarities and differences will be discussed. \nBased on Morey’s empirical research\, she will describe the construct of system enactment and its relevance for clinicians practicing in treatment systems. She will outline a four-step framework for engaging system enactments to repair alliance ruptures with patients\, restore intra-staff functioning and address problematic organizational dynamics. Throughout the seminar\, Morey will highlight social justice and anti-oppressive elements of a psychodynamic systems approach. Case discussions will illustrate the application of concepts in ways that are clinically relevant for participants.
URL:https://www.humanserviceforum.org/event/clinical-practice-in-treatment-systems-a-psychodynamic-systems-approach/
LOCATION:Webinar
CATEGORIES:Community Calendar,HSF Member Event
ORGANIZER;CN="Smith College School for Social Work":MAILTO:mcurtin@smith.edu
END:VEVENT
END:VCALENDAR