BEGIN:VCALENDAR
VERSION:2.0
PRODID:-//Human Service Forum - ECPv6.15.20//NONSGML v1.0//EN
CALSCALE:GREGORIAN
METHOD:PUBLISH
X-WR-CALNAME:Human Service Forum
X-ORIGINAL-URL:https://www.humanserviceforum.org
X-WR-CALDESC:Events for Human Service Forum
REFRESH-INTERVAL;VALUE=DURATION:PT1H
X-Robots-Tag:noindex
X-PUBLISHED-TTL:PT1H
BEGIN:VTIMEZONE
TZID:America/New_York
BEGIN:DAYLIGHT
TZOFFSETFROM:-0500
TZOFFSETTO:-0400
TZNAME:EDT
DTSTART:20230312T070000
END:DAYLIGHT
BEGIN:STANDARD
TZOFFSETFROM:-0400
TZOFFSETTO:-0500
TZNAME:EST
DTSTART:20231105T060000
END:STANDARD
BEGIN:DAYLIGHT
TZOFFSETFROM:-0500
TZOFFSETTO:-0400
TZNAME:EDT
DTSTART:20240310T070000
END:DAYLIGHT
BEGIN:STANDARD
TZOFFSETFROM:-0400
TZOFFSETTO:-0500
TZNAME:EST
DTSTART:20241103T060000
END:STANDARD
BEGIN:DAYLIGHT
TZOFFSETFROM:-0500
TZOFFSETTO:-0400
TZNAME:EDT
DTSTART:20250309T070000
END:DAYLIGHT
BEGIN:STANDARD
TZOFFSETFROM:-0400
TZOFFSETTO:-0500
TZNAME:EST
DTSTART:20251102T060000
END:STANDARD
END:VTIMEZONE
BEGIN:VEVENT
DTSTART;TZID=America/New_York:20240924T180000
DTEND;TZID=America/New_York:20240924T193000
DTSTAMP:20260424T035620
CREATED:20240906T142624Z
LAST-MODIFIED:20240906T142624Z
UID:10003415-1727200800-1727206200@www.humanserviceforum.org
SUMMARY:Everything you need to know about the new IEP
DESCRIPTION:Register for this free in-person workshop with educational advocate Alison Green to get the full scoop on the new IEP and your child’s rights in special education. Whether this is your first IEP or your tenth\, we will help you unravel the sometimes daunting mysteries of special education. Childcare is provided!\nSign up: https://www.wholechildren.org/iep
URL:https://www.humanserviceforum.org/event/everything-you-need-to-know-about-the-new-iep/
LOCATION:Whole Children\, 41 Russell Street\, Hadley\, MA\, United States
CATEGORIES:Community Calendar,HSF Member Event
GEO:42.3391695;-72.6065641
X-APPLE-STRUCTURED-LOCATION;VALUE=URI;X-ADDRESS=Whole Children 41 Russell Street Hadley MA United States;X-APPLE-RADIUS=500;X-TITLE=41 Russell Street:geo:-72.6065641,42.3391695
END:VEVENT
END:VCALENDAR